Workbook

Sheet 挂网版
A1: 改扩建二期项目（首批702床）开办费采购需求明细表-办公家具（第一批）
A2: 序号 | B2: 产品名称 | C2: 规格参数 | D2: 材质参数 | E2: 单位 | F2: 数量
A3: =ROW()-2 -> 1 | B3: 办公卡座 | C3: 1600W*1600D*1200H（mm）或根据现场实际测量定制 | D3: =VLOOKUP(B3,[1]需求明细!F:H,3,FALSE) -> 1、贴面板材：采用优质三聚氰胺纸 ,甲醛释放限量符合国家标准， 2、基材：采用通过国家技术标准的优质环保刨花板。确保甲醛排放达安全水平，经过防潮、防虫、防腐的化学处理，强度高，刚性好，不变形不开裂； 3、粘合剂：优质乳胶, 4、封边用材：≥2mm厚PVC胶边，优质热熔胶。 5、品牌优质五金配件； 6、脚架：采用静电粉末喷涂钢脚架。 7、每个位配活动柜一组 | E3: 张 | F3: 2
A4: =ROW()-2 -> 2 | B4: 办公椅 | C4: 常规定制，可选配头枕 | D4: =VLOOKUP(B4,[1]需求明细!F:H,3,FALSE) -> 1.整椅：符合办公家具技术条件标准要求。 2.背框：软体包围式结构，尼龙+玻纤材质，重量≥4.4KG 。尼龙材料强度和刚性较高，玻璃纤维有减少尼龙缩水,提高背框的精度，同时增强材料的强度和耐热性能。 3.网布：国产环保网布，透气耐磨，且不容易变色，干洗尺寸变化率%：直向及横向-2.0～+1.0； 。 4.海棉：海绵：采用高密度原生高弹海棉，柔软有弹性、不变形，检测项包括； 5. 扶手：PU扶手软面，4D多功能，扶手长度≥270mm，扶手向外后方旋转180°，向内旋转30°，整体旋转平面角度210°，5档高低升降可调；扶手面可前后调整。 6、脚轮：尼龙静音脚轮,直径不小于60mm。 7、腰靠：可前后调节的同时进行升降调节，前后4档调节；升降4档调节，行程，且均具备多档锁定 8.底盘：倾仰机构，检测内容包括： ①产品安全性能、力学性能：抗拉强度、下屈服强度、断后伸长率检测合格。②中性盐雾试验（NSS）；乙酸盐雾试验（ASS）；铜加速乙酸盐雾试验(CASS)；铜盐加速乙酸盐雾试验(CASS)连续喷雾≥168小时，镀(涂)层本身耐腐蚀等级达到10级。 9.气压棒：气压棒，检测内容包括：①密封性能、耐高低温性能、伸展速度，符合检测要求：QB/T2280-2016 ， 金属件外观（1）金属件应进行防锈处理，不应有锈迹 10.五星脚：尼龙+玻纤，重量不低于1.8KG，壁厚达到6.5mm及以上，静压达1136KG及以上。直径680mm及以上，稳固性更安全。 ★11、后期检测验收参考标准：SZJG 52-2016 《家具成品及原辅材料中有害物质限量》 QB/T 2280-2016 《办公家具办公椅》 ▲12、环保网布：符合检测依据或判定依据：GB/T 3923.1-2013、GB/T 4802.2-2008、GB/T 13772.2-2018、FZ/T 62011.3-2016、GB/T3917.2-2009、GB/T 5711-2015、GB/T 8427-2019、GB/T 3922-2013、GB/T 3920-2008、GB/T 5713-2013、GB/T 3921-2008A(1)、GB/T 5455-2014、GB/T 7573-2009、GB/T 2912.1-2009、GB/T 17593.4-2006、GB/T 17593.2-2007、GB/T 17593.3-2006、GB/T 30157-2013、GB/T 20388-2016 (1) 依据GB/T 24121-2009方法测试：无残留金属物； （2）依据GB/T 3923.1-2013方法测试：断裂强力：直向：≥1000N、横向：≥810N； （3）依据GB/T 4802.2-2008方法测试：起毛起球4-5级； （4）依据GB/T 13772.2-2018方法测试：纱线滑移:样品//直向、横向为2mm； （5）依据FZ/T 62011.3-2016 6.1.5方法测试：水洗尺寸变化率%：直向及横向-2.0～+1.0； （6）依据GB/T3917.2-2009方法测试：撕破强力：直向及横向在92N～99N之间； （7）依据GB/T 5711-2015方法测试：耐干洗色牢度：变色、沾色(棉)、沾色(聚酯纤维)均为4-5级； （8）依据GB/T 8427-2019方法3方法测试：耐光色牢度：≥3级； （9）依据GB/T 3922-2013方法测试：耐汗渍色牢度：变色-酸、沾色(棉)-酸、沾色(聚酯纤维)-酸、变色-碱、沾色(棉)-碱、沾色(聚酯纤维)-碱均为4-5级； （10）依据GB/T 3920-2008方法测试：耐摩擦色牢度(干摩)：沾色-干摩为4-5级； （11）依据GB/T 3920-2008方法测试：耐摩擦色牢度(湿摩)：沾色-湿摩为4-5级； （12）依据GB/T 5713-2013方法测试：耐水色牢度：变色、沾色(棉)、沾色(聚酯纤维)均为4-5级； （13）依据GB/T 3921-2008A(1),40℃方法测试：耐皂洗色牢度：变色、沾色(棉)、沾色(聚酯纤维)均为4-5级； （14）依据GB/T 5455-2014方法测试：燃烧性能(B1级)：续然时间-经向≤2.1s；续然时间-纬向≤4s；阴燃时间-经向≤0.1s；阴燃时间-纬向≤0.1s；损毁长度-经向≤28mm；损毁长度-纬向≤66mm； （15）依据GB/T 7573-2009方法测试：p H 值5～7； （16）依据GB/T 2912.1-2009方法测试：甲醛含量：未检出； （17）依据GB/T 17593.4-2006、GB/T 17593.2-2007、GB/T 17593.3-2006方法测试：可萃取重金属：砷(As)、铅(Pb)、铬(Cr)、钴(Co)、铜(Cu)、镍(Ni)、镉(Cd)、六价铬、汞(Hg)均未检出； （18）依据GB/T 30157-2013方法测试：总镉、总铅：未检出； （19）依据GB/T 20388-2016方法测试：邻苯二甲酸酯：DINP、DNOP、DEHP、DIDP、BBP、DBP、DMEP、DIHP、DIBP、DPP、DCHP各项未检出； （20）依据GB/T 20385.1-2021方法测试：有机锡化合物：一丁基锡(MBT)、二丁基锡(DBT)、三丁基锡(TBT)、三苯基锡(TPhT)均未检出。 提供证明材料：投标人同时提供：①提供2022年1月1日至本项目投标截止之日，第三方检测机构出具的标注资质认定标志（CMA）的检验检测报告；②需提供全国认证认可信息公共服务平台（认e云）查询有效的截图（http://cx.cnca.cn）且编号一致；③检测报告封面货物名称不一致时，提供书面说明以证明是同种货物，否则该项不得分。 13、根据现场实际测量定制；由科室确定后生产。 | E4: 张 | F4: 493
A5: =ROW()-2 -> 3 | B5: 办公桌（含副台和副柜）1 | C5: 办公桌主台：1600W*800D*760H(mm)或根据现场实际测量定制； 副台：400W*550D*760H(mm)或根据现场实际测量定制； 副柜：480W*400D*760H(mm)或根据现场实际测量定制； | D5: =VLOOKUP(B5,[1]需求明细!F:H,3,FALSE) -> 1、基材：采用E1 级中密度纤维板， 2、贴面：采用AAA级实木皮贴面，厚度≥0.8mm 3、封边：实木封边条，符合QB/T4463-2013《家具用封边条技术要求》 4、油漆：采用环保水性面漆和水性底漆，并经过五底三面油漆工艺处理，各指标均达到SZJG 52-2016 《家具成品及原辅材料中有害物质限量》要求； 5、胶粘剂：游离甲醛、苯、甲苯、二甲苯和总挥发性有机物,各指标均达到SZJG 52-2016 《家具成品及原辅材料中有害物质限量》要求； 6、配置：主台面、固定脚、主台前挡板及副柜；主台面配台面铝合金缓冲线盒（由中标供应商配置强弱电插座（包含线路、接线和安装）。 7、副柜：结构为抽屉+掩门柜+空格柜+主机柜等功能； 8、班台内部可隐蔽式走线，根据采购方需求预留孔位。 9、五金配件： （1）滑轨：滚珠式静音滑轨，推拉平稳有回位功能，承重量≥30KG。 （2）配锁具及缓冲门铰。 ★10、后期检测验收参考标准： SZJG 52-2016 《家具成品及原辅材料中有害物质限量》 GB/T 3324-2024《木家具通用技术条件》 11、根据现场实际测量定制；由科室确定后生产。 | E5: 张 | F5: 66
A6: =ROW()-2 -> 4 | B6: 办公桌（含高柜） | C6: 900W*650D*2000H(mm)，桌面上带吊柜，桌下带机箱柜，整体高度2000mm | D6: =VLOOKUP(B6,[1]需求明细!F:H,3,FALSE) -> 1、贴面板材：采用优质三聚氰胺纸 ,甲醛释放限量符合国家标准， 2、基材：采用通过国家技术标准的优质环保刨花板。确保甲醛排放达安全水平，经过防潮、防虫、防腐的化学处理，强度高，刚性好，不变形不开裂； 3、粘合剂：优质乳胶, 4、封边用材：≥2mm厚PVC胶边，优质热熔胶。 5、品牌优质五金配件； 6、脚架：采用静电粉末喷涂钢脚架。 7、每个位配活动柜一组 | E6: 张 | F6: 220
A7: =ROW()-2 -> 5 | B7: 办公桌（含副柜）2 | C7: 办公桌主台：1400W*800D*760H(mm)或根据现场实际测量定制； 副柜：480W*400D*760H(mm)或根据现场实际测量定制； | D7: =VLOOKUP(B7,[1]需求明细!F:H,3,FALSE) -> 1、贴面板材：采用优质三聚氰胺纸 ,甲醛释放限量符合国家标准， 2、基材：采用通过国家技术标准的优质环保刨花板。确保甲醛排放达安全水平，经过防潮、防虫、防腐的化学处理，强度高，刚性好，不变形不开裂； 3、粘合剂：优质乳胶, 4、封边用材：≥2mm厚PVC胶边，优质热熔胶。 5、品牌优质五金配件； 6、脚架：采用静电粉末喷涂钢脚架。 7、每个位配活动柜一组 | E7: 张 | F7: 5
A8: =ROW()-2 -> 6 | B8: 办公桌1 | C8: 1400W*600D*750H(mm)或根据现场实际测量定制 | D8: =VLOOKUP(B8,[1]需求明细!F:H,3,FALSE) -> 1、贴面板材：采用三聚氰胺纸饰面，表面耐磨，抗划痕。 2、基材：采用环保刨花板。确保甲醛排放达安全水平，经过防潮、防虫、防腐的化学处理，强度高，刚性好，不变形不开裂； ▲3、技术要求 3.1水性胶粘剂： 符合检测依据或判定依据：GB 18583-2008、HG/T 5989-2021、GB/T 39294-2020； （1）依据GB 18583-2008检测：游离甲醛未检出；苯未检出；甲苯+二甲苯未检出；总挥发性有机物≤9g/L；二氯甲烷未检出；1,2-二氯乙烷+1,1,2-三氯乙烷+三氯乙烯总和未检出； （2）依据HG/T 5989-2021检测：甲苯、乙苯、二甲苯均未检出；总挥发性有机物 (TVOC)≤2g/L；游离二苯基甲烷二异氰酸酯未检出； （3）依据GB/T 39294-2020检测：色差试验时间：不低于168h(色度计法)总色差检验结果为：45±0.2。 3.2三聚氰胺浸渍纸： 符合检测依据或判定依据：LY/T 1831-2009、GB/T 459-2002、GB/T 456-2002、GB/T 458-2008、LY/T 1143-2006、LY/T 1831-2009(6.3.16)； (1)依据LY/T 1831-2009的检验方法检验：纵向干抗张强度N/15mm≥34.0、纵向湿抗张强度N/15mm≥8.0、水分≤4.8%、灰分28～32%； (2)依据GB/T 459-2002(方法A)的检验方法检验：纵向伸缩率、横向伸缩率合格； (3)依据GB/T 456-2002检验方法检验：平滑度153±0.1s； (4)依据GB/T 458-2008检验方法检验：透气度4.7±0.1Hm/(Pa·s)； (6)依据LY/T 1143-2006(6.3.2)检验方法检验：挥发物含量8%～8.5%； (7)依据LY/T 1831-2009(6.3.16)的检验方法检验：浸胶量偏差浸胶量：166.0±0.5% (8)依据LY/T 1143-2006(6.3.3)的检验方法检验：预固化度40%～43%； (9)依据LY/T 1831-2009(6.3.15)的检验方法检验：甲醛释放量≤0.7mg/L、符合A级标准。 提供证明材料：投标人同时提供：①提供2022年1月1日至本项目投标截止之日，第三方检测机构出具的标注资质认定标志（CMA）的检验检测报告；②需提供全国认证认可信息公共服务平台（认e云）查询有效的截图（http://cx.cnca.cn）且编号一致；③检测报告封面货物名称不一致时，提供书面说明以证明是同种货物，否则该项不得分。 4、台面、侧脚厚度≥25mm 5、五金配件，三节滑轨，承重量≥30KG。所有五金件做防锈、防腐处理且表面镀层没有剥落现象。 6、脚架：采用静电粉末喷涂钢脚架。 7、每个位配活动柜一组。 8、功能：配有三抽柜（带有联动锁）、活动主机架、键盘架。带木质前挡板，台面带1个金属线盒盖。金属翻转线盒。 ★9、后期检测验收参考标准：SZJG 52-2016 《家具成品及原辅材料中有害物质限量》GB/T 3324-2024《木家具通用技术条件》 10、根据现场实际测量定制；由科室确定后生产。 | E8: 张 | F8: 1
A9: =ROW()-2 -> 7 | B9: 办公桌（含副柜）1 | C9: 办公桌主台：1000W*600D*760H(mm)或根据现场实际测量定制； 副柜：480W*400D*600H(mm)或根据现场实际测量定制；办公桌主 | D9: =VLOOKUP(B9,[1]需求明细!F:H,3,FALSE) -> 1、贴面板材：采用优质三聚氰胺纸 ,甲醛释放限量符合国家标准， 2、基材：采用通过国家技术标准的优质环保刨花板。确保甲醛排放达安全水平，经过防潮、防虫、防腐的化学处理，强度高，刚性好，不变形不开裂； 3、粘合剂：优质乳胶, 4、封边用材：≥2mm厚PVC胶边，优质热熔胶。 5、品牌优质五金配件； 6、脚架：采用静电粉末喷涂钢脚架。 7、每个位配活动柜一组 | E9: 张 | F9: 1
A10: =ROW()-2 -> 8 | B10: 办公桌3 | C10: 1000W*600D*750H(mm)或根据现场实际测量定制 | D10: =VLOOKUP(B10,[1]需求明细!F:H,3,FALSE) -> 1、贴面板材：采用三聚氰胺纸饰面，表面耐磨，抗划痕。 2、基材：采用环保刨花板。确保甲醛排放达安全水平，经过防潮、防虫、防腐的化学处理，强度高，刚性好，不变形不开裂； ▲3、技术要求 3.1水性胶粘剂： 符合检测依据或判定依据：GB 18583-2008、HG/T 5989-2021、GB/T 39294-2020； （1）依据GB 18583-2008检测：游离甲醛未检出；苯未检出；甲苯+二甲苯未检出；总挥发性有机物≤9g/L；二氯甲烷未检出；1,2-二氯乙烷+1,1,2-三氯乙烷+三氯乙烯总和未检出； （2）依据HG/T 5989-2021检测：甲苯、乙苯、二甲苯均未检出；总挥发性有机物 (TVOC)≤2g/L；游离二苯基甲烷二异氰酸酯未检出； （3）依据GB/T 39294-2020检测：色差试验时间：不低于168h(色度计法)总色差检验结果为：45±0.2。 3.2三聚氰胺浸渍纸： 符合检测依据或判定依据：LY/T 1831-2009、GB/T 459-2002、GB/T 456-2002、GB/T 458-2008、LY/T 1143-2006、LY/T 1831-2009(6.3.16)； (1)依据LY/T 1831-2009的检验方法检验：纵向干抗张强度N/15mm≥34.0、纵向湿抗张强度N/15mm≥8.0、水分≤4.8%、灰分28～32%； (2)依据GB/T 459-2002(方法A)的检验方法检验：纵向伸缩率、横向伸缩率合格； (3)依据GB/T 456-2002检验方法检验：平滑度153±0.1s； (4)依据GB/T 458-2008检验方法检验：透气度4.7±0.1Hm/(Pa·s)； (6)依据LY/T 1143-2006(6.3.2)检验方法检验：挥发物含量8%～8.5%； (7)依据LY/T 1831-2009(6.3.16)的检验方法检验：浸胶量偏差浸胶量：166.0±0.5% (8)依据LY/T 1143-2006(6.3.3)的检验方法检验：预固化度40%～43%； (9)依据LY/T 1831-2009(6.3.15)的检验方法检验：甲醛释放量≤0.7mg/L、符合A级标准。 提供证明材料：投标人同时提供：①提供2022年1月1日至本项目投标截止之日，第三方检测机构出具的标注资质认定标志（CMA）的检验检测报告；②需提供全国认证认可信息公共服务平台（认e云）查询有效的截图（http://cx.cnca.cn）且编号一致；③检测报告封面货物名称不一致时，提供书面说明以证明是同种货物，否则该项不得分。 4、台面、侧脚厚度≥25mm 5、五金配件，三节滑轨，承重量≥30KG。所有五金件做防锈、防腐处理且表面镀层没有剥落现象。 6、脚架：采用静电粉末喷涂钢脚架。 7、每个位配活动柜一组。 8、功能：配有三抽柜（带有联动锁）、活动主机架、键盘架。带木质前挡板，台面带1个金属线盒盖。金属翻转线盒。 ★9、后期检测验收参考标准：SZJG 52-2016 《家具成品及原辅材料中有害物质限量》GB/T 3324-2024《木家具通用技术条件》 10、根据现场实际测量定制；由科室确定后生产。 | E10: 张 | F10: 52
A11: =ROW()-2 -> 9 | B11: 保险柜1 | C11: 600W*560D*1500H(mm)或根据现场实际测量定制 | D11: =VLOOKUP(B11,[1]需求明细!F:H,3,FALSE) -> 1、产品材质：高强度低碳合金钢 2、开锁方式：面部识别+远程操控+指纹+密码 3、门型：双开门 4、门板厚度：10mm及以上 5、应急开启：主钥匙+应急钥匙 6、报警方式：蜂鸣报警 7、箱体厚度：1.6-2mm 8、开门方式：手工开门 9、根据现场实际测量定制；由科室确定后生产。 | E11: 个 | F11: 1
A12: =ROW()-2 -> 10 | B12: 保险柜2 | C12: 350W*400D*500H(mm)或根据现场实际测量定制 | D12: =VLOOKUP(B12,[1]需求明细!F:H,3,FALSE) -> 1、产品材质：高强度低碳合金钢 2、开锁方式：面部识别+远程操控+指纹+密码 3、门型：双开门 4、门板厚度：10mm及以上 5、应急开启：主钥匙+应急钥匙 6、报警方式：蜂鸣报警 7、箱体厚度：1.6-2mm 8、开门方式：手工开门 9、根据现场实际测量定制；由科室确定后生产。 | E12: 个 | F12: 22
A13: =ROW()-2 -> 11 | B13: 保险柜3 | C13: 520W*450D*1080H(mm)或根据现场实际测量定制 | D13: =VLOOKUP(B13,[1]需求明细!F:H,3,FALSE) -> 1、产品材质：高强度低碳合金钢 2、开锁方式：面部识别+远程操控+指纹+密码 3、门型：双开门 4、门板厚度：10mm及以上 5、应急开启：主钥匙+应急钥匙 6、报警方式：蜂鸣报警 7、箱体厚度：1.6-2mm 8、开门方式：手工开门 9、根据现场实际测量定制；由科室确定后生产。 | E13: 个 | F13: 25
A14: =ROW()-2 -> 12 | B14: 不锈钢货架1 | C14: 长宽高：1.4米*0.6米*2米或根据现场实际测量定制，3层 | D14: =VLOOKUP(B14,[1]需求明细!F:H,3,FALSE) -> 1、立柱采用304#不锈钢材折边制作成型方通，厚度≥1.0mm，带立柱孔；层板304#不锈钢，厚度≥1.0mm。 2、不锈钢的整板剪裁采用数控剪板机进行裁剪，整体采用电阻焊接工艺，无外露焊点，钢板采用激光切割及数控折边成型。 3、立柱底部配有防护套，配置四件层板。单层承重≥500KG。 ★4、成品验收标准：GB/T 35607-2024《绿色产品评价 家具》、GB/T 3325-2024《金属家具通用技术条件》。 5、▲《不锈钢脚架》技术要求： 符合检测依据或判定依据： GB/T 3325-2017或GB/T 3325-2024《金属家具通用技术条件》、GB/T 35607-2017或GB/T 35607-2024《绿色产品评价 家具》等 安全性能要求：可溶性重金属，可溶性铅、可溶性镉、可溶性铬、可溶性汞未检出；理化性能要求：耐腐蚀符合要求；力学性能：柜类强度和耐久性、柜类稳定性检测合格； 提供证明材料： 投标人同时提供：①提供2022年1月1日至本项目投标截止之日，第三方检测机构内出具的标注资质认定标志（CMA）的检验检测报告；②需提供全国认证认可信息公共服务平台（认e云）查询有效的截图（http://cx.cnca.cn）且编号一致；③检测报告封面货物名称不一致时，提供书面说明以证明是同种货物，否则该项不得分。 6、根据现场实际测量定制；由科室确定后生产。 | E14: 个 | F14: 44
... A63: =ROW()-2 -> 61 | B63: 组合沙发(1+1+3) | C63: 1+1+3 定制 | D63: =VLOOKUP(B63,[1]需求明细!F:H,3,FALSE) -> 1、面料：头层牛皮；皮面柔软舒适，光泽持久，检测项包括①游离甲醛、禁用偶氮染料、挥发性有机物（V0C）、均未检出。②撕裂力≥100N、摩擦色牢度干擦500次、湿擦250次及碱性汗液80次均应≥5级、涂层粘着牢度≥6.5N/10mm、耐折牢度6万次无裂纹、气味≤2级、pH≥8、耐光性≥6级。 ③燃烧性能达到B1级。 2、海绵：采用高密度原生高弹海棉，柔软有弹性、不变形，检测项包括；①甲醛释放量、TVOC未检出。②回弹性能≥50%、密度≥50kg/m³ ③恒定负荷反复压陷疲劳性能、撕裂强度、拉伸强度 、75%压缩永久变形、干热老化后拉伸强度 、湿热老化后拉伸强度、断裂伸长率等均检测合格。 ④ 燃烧性能达到B1级。 3、胶粘：环保型胶粘剂采用环保耐热树脂、环保溶剂、和特种助剂等主要原料合成，环保无毒、气味小、粘接性能强、耐高温、不易粉化。 4.沙发内架：采用松木实木方加工成型制作，木材防虫防腐处理；S型弹性钢和绷带做加固支撑。 5、配有升降气压棒，靠背可五档调节，配有扶手，座面下配有圆形加大底座。 ★6.成品验收标准：GB/T 35607-2024《绿色产品评价 家具》、QB/T1952.1-2023。 7、根据现场实际测量定制；由科室确定后生产。 | E63: 个 | F63: 1
