Workbook

Sheet 开办费汇总表（改扩建工程+质子）
A1: 开办费汇总表
A2: 序号 | B2: 名称 | C2: 数量（项） | D2: 合计（万元） | E2: 备注
A3: 一 | B3: 传统类（共性）设备设施 | C3: =SUM(C4:C7) -> #REF! | D3: =SUM(D4:D7) -> #REF!
A4: 1 | B4: 办公家具（含窗帘） | C4: =#REF! -> #REF! | D4: =#REF! -> #REF! | E4: 附表1，基建总务部
A5: 2 | B5: 办公设备 | C5: =#REF! -> #REF! | D5: =#REF! -> #REF! | E5: 附表2，信息管理部/设备部
A6: 3 | B6: 会议设备 | C6: ='附表4-2 会议设备明细表'!F2729 -> 0 | D6: ='附表4-2 会议设备明细表'!H2729 -> 0 | E6: 附表3，基建总务部
A7: 4 | B7: 厨房终端设备（含食堂） | C7: ='附表4-2厨房终端设备（含食堂）明细表3'!#REF! -> #REF! | D7: ='附表4-2厨房终端设备（含食堂）明细表3'!#REF! -> #REF! | E7: 附表4，基建总务部
A8: 二 | B8: 专业类（非共性）设备设施 | C8: =SUM(C9:C10) -> #REF! | D8: =SUM(D9:D10) -> #REF!
A9: 1 | B9: 小型医疗器械（单价 1 万元以下） | C9: =附表6小型医疗器械1!#REF! -> #REF! | D9: =附表6小型医疗器械1!#REF! -> #REF! | E9: 附表5，医务部/护理部/设备部/科教部
A10: 2 | B10: 低值易耗物品 | C10: =#REF! -> #REF! | D10: =#REF! -> #REF! | E10: 附表6，医务部/护理部/设备部/科教部
A11: 三 | B11: 其他类设备设施 | C11: =C12 -> #REF! | D11: =SUM(D12) -> #REF!
A12: 1 | B12: 安防、消防设备设施 | C12: =#REF! -> #REF! | D12: =#REF! -> #REF! | E12: 附表7，安全办
A13: 四 | B13: 合计 | C13: 一+二+三 | D13: =SUM(D3,D8,D11) -> #REF!
C15: 1500床 | D15: =12.8*1500 -> 19200
C16: 1200床 | D16: =12.8*1200 -> 15360
C17: 300床 | D17: =300*12.8 -> 3840

Sheet 医疗设备、信息化、开办费汇总投资
A1: 质子中心、改扩建工程 医疗设备、信息化、开办费投资汇总表
A2: 序号 | B2: 费用名称 | C2: 投资额（万元） | D2: 占比 | E2: 备注
A3: 一 | B3: 医用设备购置专项投资 | C3: =C4+C5 -> 101284.3 | D3: =C3/$C$14 -> #REF!
A4: 1 | B4: 设备购置费 | C4: 101005.93 | D4: =C4/$C$14 -> #REF!
A5: 2 | B5: 工程建设其他费用 | C5: 278.37 | D5: =C5/$C$14 -> #REF!
A6: 3 | B6: 预备费 | C6: 0 | D6: =C6/$C$14 -> #REF!
A7: 二 | B7: 信息化建设专项投资 | C7: =C8+C9+C10 -> 5635.18 | D7: =C7/$C$14 -> #REF!
A8: 1 | B8: 工程建设费 | C8: 4974.52 | D8: =C8/$C$14 -> #REF!
A9: 2 | B9: 工程建设其他费用 | C9: 392.32 | D9: =C9/$C$14 -> #REF!
A10: 3 | B10: 预备费 | C10: 268.34 | D10: =C10/$C$14 -> #REF!
A11: 三 | B11: 开办费 | C11: =C12+C13 -> #REF! | D11: =C11/$C$14 -> #REF!
A12: 1 | B12: 开办费 | C12: =#REF!+#REF!+#REF!+0.005 -> #REF! | D12: =C12/$C$14 -> #REF!
A13: 2 | B13: 工程建设其他费用 | C13: =100*0.2%+(500-101)*0.18%+(1000-501)*0.16%+(5000-1001)*0.13%+(10000-5001)*0.12%+(C12-10001)*0.11% -> #REF! | D13: =C13/$C$14 -> #REF! | E13: 开办费报告编制费
A14: 四 | B14: 总投资 | C14: =C3+C7+C11 -> #REF! | D14: =C14/$C$14 -> #REF!

Sheet 开办费汇总表（改扩建工程）702床
A1: 开办费汇总表（改扩建工程）
A2: 序号 | B2: 名称 | C2: 数量（项） | D2: 合计（万元） | E2: 比例 | F2: 备注
A3: 一 | B3: 通用设备设施 | C3: =SUM(C4:C7) -> #REF! | D3: =SUM(D4:D7) -> #REF! | E3: =D3/D17 -> #REF!
A4: 1 | B4: 办公家具 | C4: =#REF! -> #REF! | D4: =#REF!/10000 -> #REF! | E4: =D4/D17 -> #REF!
A5: 2 | B5: 窗帘 | C5: 1 | D5: =#REF!/10000 -> #REF! | E5: =D5/D17 -> #REF!
A6: 3 | B6: 办公设备 | C6: =#REF! -> #REF! | D6: =#REF!/10000 -> #REF! | E6: =D6/D17 -> #REF!
A7: 4 | B7: 厨房终端设备（含食堂） | C7: =#REF! -> #REF! | D7: =#REF!/10000 -> #REF! | E7: =D7/D17 -> #REF!
A8: 二 | B8: 专用设备设施 | C8: =SUM(C9:C10) -> #REF! | D8: =SUM(D9:D10) -> #REF! | E8: =D8/D17 -> #REF!
A9: 5 | B9: 小型医疗器械 | C9: =#REF! -> #REF! | D9: =#REF!/10000 -> #REF! | E9: =D9/D17 -> #REF!
A10: 6 | B10: 低值易耗物品 | C10: =#REF! -> #REF! | D10: =#REF!/10000 -> #REF! | E10: =D10/D17 -> #REF!
A11: 三 | B11: 其他设备设施 | C11: =SUM(C12:C15) -> #REF! | D11: =SUM(D12:D15) -> #REF! | E11: =D11/D17 -> #REF!
A12: 7 | B12: 安防设备及消防器材 | C12: =#REF! -> #REF! | D12: =#REF!/10000 -> #REF! | E12: =D12/D17 -> #REF!
A13: 8 | B13: 后勤保障用品 | C13: =#REF! -> #REF! | D13: =#REF!/10000 -> #REF! | E13: =D13/D17 -> #REF!
A14: 9 | B14: 院内转运设备 | C14: =#REF! -> #REF! | D14: =#REF!/10000 -> #REF! | E14: =D14/D17 -> #REF!
A15: 10 | B15: 数字化设备设施 | C15: =#REF! -> #REF! | D15: =#REF!/10000 -> #REF! | E15: =D15/D17 -> #REF!
A16: 四 | B16: 开办咨询费 | D16: =#REF!/1200*702 -> #REF! | E16: =D16/D17 -> #REF!
A17: 五 | B17: 合计（一+二+三+四） | C17: =C11+C8+C3 -> #REF! | D17: =SUM(D3,D8,D11,D16) -> #REF! | E17: =E11+E8+E3+E16 -> #REF! | F17: 床均11.45万元（702床）
D20: =702*11.45 -> 8037.9
D22: =D17/702 -> #REF!
D23: =D17-D20 -> #REF!

Sheet 功能用房数量
A2: 序号 | B2: 房间名称 | C2: 数量（间） | D2: 座位/床位 | E2: 位置
A3: 1 | B3: 学术交流中心 | C3: 1 | D3: 666
A4: 2 | B4: 学生宿舍
A5: 3 | B5: 值班室
A6: 4 | B6: 多功能会议室
A7: 5 | B7: 院长办公室 | C7: 1
A8: 6 | B8: 副院长办公室
A9: 7 | B9: 主任、副主任办公室 | C9: 76
A10: 8 | B10: 护士长办公室 | C10: 40
A11: 9 | B11: 会议室
A12: 10 | B12: 病房 | C12: =SUM(C13:C17) -> 630 | D12: =SUM(D13:D17) -> 1244
A13: 10.1 | B13: 单人间 | C13: 172 | D13: 172 | E13: 第二住院楼6-23层
A14: 10.2 | B14: 双人间 | C14: 240 | D14: 480 | E14: 第二住院楼6-19层
A15: 10.3 | B15: 三人间 | C15: 180 | D15: 540 | E15: 第二住院楼6-19层
A16: 10.4 | B16: VIP套间 | C16: 2 | D16: 16 | E16: 第二住院楼20-23层
A17: 10.5 | B17: 抢救室 | C17: 36 | D17: 36 | E17: 第二住院楼6-23层

Sheet 开办费资金使用计划
A1: 改扩建工程开办费资金使用计划
A2: 序号 | B2: 所属类型 | C2: 项目名称 | D2: 数量 （项） | E2: 总投资（1200床） | G2: 2026年（702床） | I2: 2027年（498床）
E3: 测算金额（万元） | F3: 资金占比 | G3: 金额（万元） | H3: 资金占比 | I3: 金额（万元） | J3: 资金占比
A4: 1 | B4: 通用设备设施 | C4: 办公家具 | D4: =#REF! -> #REF! | E4: =#REF! -> #REF! | F4: =E4/$E$19 -> #REF! | G4: ='开办费汇总表（改扩建工程）702床'!D4 -> #REF! | H4: =G4/E4 -> #REF! | I4: =#REF! -> #REF! | J4: =I4/E4 -> #REF!
A5: 2 | C5: 窗帘 | D5: =#REF! -> #REF! | E5: =#REF! -> #REF! | F5: =E5/$E$19 -> #REF! | G5: ='开办费汇总表（改扩建工程）702床'!D5 -> #REF! | H5: =G5/E5 -> #REF! | I5: =#REF! -> #REF! | J5: =I5/E5 -> #REF!
A6: 3 | C6: 办公设备 | D6: =#REF! -> #REF! | E6: =#REF! -> #REF! | F6: =E6/$E$19 -> #REF! | G6: ='开办费汇总表（改扩建工程）702床'!D6 -> #REF! | H6: =G6/E6 -> #REF! | I6: =#REF! -> #REF! | J6: =I6/E6 -> #REF!
A7: 4 | C7: 厨房终端设备（含食堂） | D7: =#REF! -> #REF! | E7: =#REF! -> #REF! | F7: =E7/E19 -> #REF! | G7: ='开办费汇总表（改扩建工程）702床'!D7 -> #REF! | H7: =G7/E7 -> #REF! | I7: =#REF! -> #REF! | J7: =I7/E7 -> #REF!
A8: 5 | C8: 小计 | D8: =SUM(D4:D7) -> #REF! | E8: =SUM(E4:E7) -> #REF! | F8: =E8/$E$19 -> #REF! | G8: =SUM(G4:G7) -> #REF! | H8: =G8/E8 -> #REF! | I8: =SUM(I4:I7) -> #REF! | J8: =I8/E8 -> #REF!
A9: 6 | B9: 专用设备设施 | C9: 小型医疗器械 | D9: =#REF! -> #REF! | E9: =#REF! -> #REF! | F9: =E9/$E$19 -> #REF! | G9: ='开办费汇总表（改扩建工程）702床'!D9 -> #REF! | H9: =G9/E9 -> #REF! | I9: =#REF! -> #REF! | J9: =I9/E9 -> #REF!
A10: 7 | C10: =#REF! -> #REF! | D10: =#REF! -> #REF! | E10: =#REF! -> #REF! | F10: =E10/$E$19 -> #REF! | G10: ='开办费汇总表（改扩建工程）702床'!D10 -> #REF! | H10: =G10/E10 -> #REF! | I10: =#REF! -> #REF! | J10: =I10/E10 -> #REF!
D11: =#REF! -> #REF! | E11: =#REF! -> #REF! | F11: =E11/E19 -> #REF! | G11: =#REF! -> #REF! | H11: =G11/G19 -> #REF! | I11: =#REF! -> #REF! | J11: =I11/I19 -> #REF!
A12: 8 | C12: 小计 | D12: =SUM(D9:D11) -> #REF! | E12: =SUM(E9:E11) -> #REF! | F12: =E12/$E$19 -> #REF! | G12: =SUM(G9:G11) -> #REF! | H12: =G12/E12 -> #REF! | I12: =SUM(I9:I11) -> #REF! | J12: =I12/E12 -> #REF!
A13: 9 | B13: 其他设备设施 | C13: 安防设备及消防器材 | D13: =#REF! -> #REF! | E13: =#REF! -> #REF! | F13: =E13/$E$19 -> #REF! | G13: =#REF! -> #REF! | H13: =G13/E13 -> #REF! | I13: =#REF! -> #REF! | J13: =I13/E13 -> #REF!
A14: 10 | C14: 后勤保障用品 | D14: =#REF! -> #REF! | E14: =#REF! -> #REF! | F14: =E14/$E$19 -> #REF! | G14: ='开办费汇总表（改扩建工程）702床'!D13 -> #REF! | H14: =G14/E14 -> #REF! | I14: =#REF! -> #REF! | J14: =I14/E14 -> #REF!
A15: 11 | C15: 院内转运设备 | D15: =#REF! -> #REF! | E15: =#REF! -> #REF! | F15: =E15/$E$19 -> #REF! | G15: ='开办费汇总表（改扩建工程）702床'!D14 -> #REF! | H15: =G15/E15 -> #REF! | I15: =#REF! -> #REF! | J15: =I15/E15 -> #REF!
A16: 12 | C16: 数字化设备设施 | D16: =#REF! -> #REF! | E16: =#REF! -> #REF! | F16: =E16/$E$19 -> #REF! | G16: ='开办费汇总表（改扩建工程）702床'!D15 -> #REF! | H16: =G16/E16 -> #REF! | I16: =#REF! -> #REF! | J16: =I16/E16 -> #REF!
A17: 13 | C17: 小计 | D17: =SUM(D13:D16) -> #REF! | E17: =SUM(E13:E16) -> #REF! | F17: =E17/$E$19 -> #REF! | G17: =SUM(G13:G16) -> #REF! | H17: =G17/E17 -> #REF! | I17: =SUM(I13:I16) -> #REF! | J17: =I17/E17 -> #REF!
A18: 14 | B18: 咨询费 | C18: 开办咨询费 | E18: =#REF! -> #REF! | F18: =E18/$E$19 -> #REF! | G18: ='开办费汇总表（改扩建工程）702床'!D16 -> #REF! | H18: =G18/E18 -> #REF! | I18: =#REF! -> #REF! | J18: =I18/G18 -> #REF!
C19: 合计 | D19: =SUM(D8,D12,D17) -> #REF! | E19: =SUM(E8,E12,E17,E18) -> #REF! | F19: =E19/$E$19 -> #REF! | G19: =G8+G12+G17+G18 -> #REF! | H19: =G19/E19 -> #REF! | I19: =I8+I12+I17+I18 -> #REF! | J19: =I19/E19 -> #REF!

Sheet 开办费资金分期使用计划
A1: 改扩建工程开办费资金使用计划
A2: 序号 | B2: 所属类型 | C2: 项目名称 | D2: 总投资 | F2: 2026年
D3: 测算金额（万元） | E3: 资金占比 | F3: 建筑名称 | G3: 开放区域 | H3: 金额 （万元） | I3: 资金占比
A4: 1 | B4: 传统类 | C4: 办公家具 | D4: 4645.2114 | E4: 0.36995794 | F4: 后勤楼 | G4: 全部（B2-8层） | H4: =#REF!/10000 -> #REF! | I4: =(H4+H5+H6)/D4 -> #REF!
F5: 第二住院楼 （36个病区） | G5: B5-5层 | H5: =SUM(#REF!)/10000 -> #REF!
G6: 1个病区 | H6: =SUM(#REF!)/10000 -> #REF!
A7: 2 | C7: 窗帘 | D7: 368.29036 | E7: 0.029331699 | F7: 后勤楼 | G7: 全部（B2-8层） | H7: =D7 -> 368.29036 | I7: =H7/D7 -> 1
F8: 第二住院楼 | G8: 全部（B5-23层）
A9: 3 | C9: 办公设备 | D9: 2463.824 | E9: 0.196226 | F9: 后勤楼 | G9: 全部（B2-8层） | H9: =#REF!/10000 -> #REF! | I9: =(H9+H10+H11)/D9 -> #REF!
F10: 第二住院楼 （36个病区） | G10: B5-5层 | H10: =SUM(#REF!)/10000 -> #REF!
G11: 1个病区 | H11: =SUM(#REF!)/10000 -> #REF!
A12: 4 | C12: 厨房终端设备（含食堂） | D12: 1109.4896 | E12: 0.088362932 | F12: 后勤楼 | G12: 全部（B2-8层） | H12: =D12 -> 1109.4896 | I12: =H12/D12 -> 1
F13: 第二住院楼 | G13: 全部（B5-23层）
A14: 5 | C14: 小计 | D14: 8586.8154 | E14: 0.68387857 | H14: =SUM(H4:H13) -> #REF! | I14: =H14/D14 -> #REF!
A15: 6 | B15: 专业类 | C15: 小型医疗器械 | D15: 1541.2939 | E15: 0.12275306 | F15: 第二住院楼 （36个病区） | G15: 1个病区 | H15: =D15/36 -> 42.813719 | I15: =H15/D15 -> 0.027777778
A16: 7 | C16: 低值易耗物品 | D16: 639.6182 | E16: 0.050941025 | F16: 后勤楼 | H16: ='附表6 低值易耗物品汇总表'!N40/10000 -> 31.35 | I16: =(H16+H17)/D16 -> 0.047652125
F17: 第二住院楼 （36个病区） | G17: 1个病区 | H17: =('附表6 低值易耗物品汇总表'!J40-'附表6 低值易耗物品汇总表'!N40)/36/10000 -> -0.87083333
A18: 8 | C18: 医用地巾抹布洗消设备 | D18: 512 | E18: 0.040777146 | F18: 第二住院楼 | H18: =附表6低值易耗物品汇总表2!I6/10000 -> #VALUE! | I18: =H18/D18 -> #VALUE!
A19: 9 | C19: 小计 | D19: 2692.9121 | E19: 0.21447123 | H19: =SUM(H15:H18) -> #VALUE! | I19: 0.85827253
A20: 10 | B20: 其他类 | C20: 安防设备及消防器材 | D20: 330.418 | E20: 0.026315436 | F20: 后勤楼 | G20: 全部（B2-8层） | H20: =D20 -> 330.418 | I20: =H20/D20 -> 1
F21: 第二住院楼 | G21: 全部（B5-23层）
A22: 11 | C22: 后勤保障用品 | D22: 386.9165 | E22: 0.030815138 | F22: 后勤楼 | G22: 全部（B2-8层） | H22: =#REF!/10000 -> #REF! | I22: =(H22+H23+H24)/D22 -> #REF!
F23: 第二住院楼 （36个病区） | G23: B5-5层 | H23: =SUM(#REF!)/10000 -> #REF!
G24: 1个病区 | H24: =SUM(#REF!)/10000 -> #REF!
A25: 12 | C25: 地巾布巾 | D25: 2.9202 | E25: 0.00023257309 | F25: 第二住院楼 （36个病区） | G25: 1个病区 | H25: =附表10地巾布巾汇总表!G8/10000/36 -> 0 | I25: =H25/D25 -> 0
A26: 13 | C26: 院内转运设备 | D26: 6 | E26: 0.00047785718 | F26: 第二住院楼 （36个病区） | G26: 1个病区 | H26: =#REF!/10000/36 -> #REF! | I26: =H26/D26 -> #REF!
A27: 14 | C27: 数字化设备设施 | D27: 346.35 | E27: 0.027584306 | F27: 后勤楼 | G27: 全部（B2-8层） | H27: =#REF!/10000 -> #REF! | I27: =(H27+H28+H29)/D27 -> #REF!
F28: 第二住院楼 （36个病区） | G28: B5-5层 | H28: =SUM(#REF!)/10000 -> #REF!
G29: 1个病区 | H29: =SUM(#REF!)/10000 -> #REF!
A30: 15 | C30: 医院文化建设 | D30: 172.7436 | E30: 0.013757795 | F30: 后勤楼 | G30: 全部（B2-8层） | H30: =D30 -> 172.7436 | I30: =H30/D30 -> 1
F31: 第二住院楼 | G31: 全部（B5-23层）
A32: 16 | C32: 小计 | D32: 1245.3483 | E32: 0.099183105 | H32: =SUM(H20:H31) -> #REF! | I32: =H32/D32 -> #REF!
A33: 17 | B33: 咨询费 | C33: 开办咨询费 | D33: 30.966964 | E33: 0.0024662977 | H33: =D33 -> 30.966964 | I33: =H33/D33 -> 1
C34: 合计 | D34: 12556.053 | E34: 1 | H34: =H33+H32+H19+H14 -> #REF! | I34: =H34/D34 -> #REF!
H37: 12556.043
D39: 10.463377 | H39: 10358.744
H40: 0.825
H44: 12556.043
H45: 0.01

Sheet 附表1-1办公家具汇总表2
A1: 附表1-1办公家具汇总表
A2: 序号 | B2: 产品名称 | C2: 规格参数 | D2: 材质参数 | E2: 单位 | F2: 数量 | G2: 单价（元） | H2: 总价 （元） | I2: 备注
A3: 一、桌子类 | F3: =SUM(F4,F14:F56)-F44-F38-F31-F24-F18 -> 4009 | H3: =SUM(H5:H56)-H44-H38-H31-H24-H18 -> 11038480
A4: 1 | B4: 办公桌 | C4: 根据现场实际测量定制 | D4: 1、贴面板材：采用优质三聚氰胺纸 ,甲醛释放限量符合国家标准， 2、基材：采用通过国家技术标准的优质环保刨花板。确保甲醛排放达安全水平，经过防潮、防虫、防腐的化学处理，强度高，刚性好，不变形不开裂； 3、粘合剂：优质乳胶, 4、封边用材：≥2mm厚PVC胶边，优质热熔胶。 5、品牌优质五金配件； 6、脚架：采用静电粉末喷涂钢脚架。 7、每个位配活动柜一组 | E4: 张 | F4: =SUM(F5:F13) -> 2113 | G4: 2560.2968 | H4: =SUM(H5:H13) -> 7508000
A5: 1.1 | B5: 办公桌1 | C5: 1000*600*750 | D5: 1、贴面板材：采用优质三聚氰胺纸 ,甲醛释放限量符合国家标准， 2、基材：采用通过国家技术标准的优质环保刨花板。确保甲醛排放达安全水平，经过防潮、防虫、防腐的化学处理，强度高，刚性好，不变形不开裂； 3、粘合剂：优质乳胶, 4、封边用材：≥2mm厚PVC胶边，优质热熔胶。 5、品牌优质五金配件； 6、脚架：采用静电粉末喷涂钢脚架。 7、每个位配活动柜一组 | E5: 张 | F5: 990 | G5: 800 | H5: 792000
A6: 1.2 | B6: 办公桌2 | C6: L型 | D6: 1、贴面板材：采用优质三聚氰胺纸 ,甲醛释放限量符合国家标准， 2、基材：采用通过国家技术标准的优质环保刨花板。确保甲醛排放达安全水平，经过防潮、防虫、防腐的化学处理，强度高，刚性好，不变形不开裂； 3、粘合剂：优质乳胶, 4、封边用材：≥2mm厚PVC胶边，优质热熔胶。 5、品牌优质五金配件； 6、脚架：采用静电粉末喷涂钢脚架。 7、每个位配活动柜一组 | E6: 张 | F6: 13 | G6: 6000 | H6: 78000
A7: 1.3 | B7: 办公桌3 | C7: 900*450*2000mm，桌面上带吊柜，桌下带机箱柜，整体高度2000mm | D7: 1、贴面板材：采用优质三聚氰胺纸 ,甲醛释放限量符合国家标准， 2、基材：采用通过国家技术标准的优质环保刨花板。确保甲醛排放达安全水平，经过防潮、防虫、防腐的化学处理，强度高，刚性好，不变形不开裂； 3、粘合剂：优质乳胶, 4、封边用材：≥2mm厚PVC胶边，优质热熔胶。 5、品牌优质五金配件； 6、脚架：采用静电粉末喷涂钢脚架。 7、每个位配活动柜一组 | E7: 张 | F7: =396-36 -> 360 | G7: 10000 | H7: =F7*G7 -> 3600000
A8: 1.4 | B8: 办公桌4 | C8: 办公桌主台：长1.2米，宽0.6米，高0.76米； | D8: 1、贴面板材：采用优质三聚氰胺纸 ,甲醛释放限量符合国家标准， 2、基材：采用通过国家技术标准的优质环保刨花板。确保甲醛排放达安全水平，经过防潮、防虫、防腐的化学处理，强度高，刚性好，不变形不开裂； 3、粘合剂：优质乳胶, 4、封边用材：≥2mm厚PVC胶边，优质热熔胶。 5、品牌优质五金配件； 6、脚架：采用静电粉末喷涂钢脚架。 7、每个位配活动柜一组 | E8: 张 | F8: 57 | G8: 4000 | H8: 228000
A9: 1.5 | B9: 办公桌5 | C9: 长 1.4 米，宽 0.8 米，高 0.76 米 | D9: 1、贴面板材：采用优质三聚氰胺纸 ,甲醛释放限量符合国家标准， 2、基材：采用通过国家技术标准的优质环保刨花板。确保甲醛排放达安全水平，经过防潮、防虫、防腐的化学处理，强度高，刚性好，不变形不开裂； 3、粘合剂：优质乳胶, 4、封边用材：≥2mm厚PVC胶边，优质热熔胶。 5、品牌优质五金配件； 6、脚架：采用静电粉末喷涂钢脚架。 7、每个位配活动柜一组 | E9: 张 | F9: =550+3 -> 553 | G9: 4000 | H9: =F9*G9 -> 2212000
A10: 1.6 | B10: 办公桌6 | C10: 办公桌主台：长 1.8 米，宽 0.9 米，高 0.76 米； 副台：长 0.9 米，宽 0.55 米，高 0.76 米； 副柜：长 0.48 米，宽 0.4 米，高 0.62 米。 | D10: 1、贴面板材：采用优质三聚氰胺纸 ,甲醛释放限量符合国家标准， 2、基材：采用通过国家技术标准的优质环保刨花板。确保甲醛排放达安全水平，经过防潮、防虫、防腐的化学处理，强度高，刚性好，不变形不开裂； 3、粘合剂：优质乳胶, 4、封边用材：≥2mm厚PVC胶边，优质热熔胶。 5、品牌优质五金配件； 6、脚架：采用静电粉末喷涂钢脚架。 7、每个位配活动柜一组 | E10: 张 | F10: 108 | G10: 4000 | H10: 432000
A11: 1.7 | B11: 办公桌7 | C11: 长2 米，宽1.2米，高 0.76 米；或根据现场实际测量 | D11: 1、贴面板材：采用优质三聚氰胺纸 ,甲醛释放限量符合国家标准， 2、基材：采用通过国家技术标准的优质环保刨花板。确保甲醛排放达安全水平，经过防潮、防虫、防腐的化学处理，强度高，刚性好，不变形不开裂； 3、粘合剂：优质乳胶, 4、封边用材：≥2mm厚PVC胶边，优质热熔胶。 5、品牌优质五金配件； 6、脚架：采用静电粉末喷涂钢脚架。 7、每个位配活动柜一组 | E11: 张 | F11: 8 | G11: 5000 | H11: 40000
A12: 1.8 | B12: 办公桌8 | C12: 办公桌主台：长 2.0 米，宽2.0 米，高 0.76 米； 卡座：长 1.6 米，宽 1.6 米，高 1.2 米； 副柜：长 0.48 米，宽 0.4 米，高 0.6 米。 | D12: 1、贴面板材：采用优质三聚氰胺纸 ,甲醛释放限量符合国家标准， 2、基材：采用通过国家技术标准的优质环保刨花板。确保甲醛排放达安全水平，经过防潮、防虫、防腐的化学处理，强度高，刚性好，不变形不开裂； 3、粘合剂：优质乳胶, 4、封边用材：≥2mm厚PVC胶边，优质热熔胶。 5、品牌优质五金配件； 6、脚架：采用静电粉末喷涂钢脚架。 7、每个位配活动柜一组 | E12: 张 | F12: 9 | G12: 4000 | H12: 36000
A13: 1.9 | B13: 办公桌9 | C13: 办公桌主台：长 2.2 米，宽 1 米，高 0.76 米； 副台：长 1 米，宽 0.55 米，高 0.76 米； 副柜：长 0.48 米，宽 0.4 米，高 0.62 米。 | D13: 1、贴面板材：采用优质三聚氰胺纸 ,甲醛释放限量符合国家标准， 2、基材：采用通过国家技术标准的优质环保刨花板。确保甲醛排放达安全水平，经过防潮、防虫、防腐的化学处理，强度高，刚性好，不变形不开裂； 3、粘合剂：优质乳胶, 4、封边用材：≥2mm厚PVC胶边，优质热熔胶。 5、品牌优质五金配件； 6、脚架：采用静电粉末喷涂钢脚架。 7、每个位配活动柜一组 | E13: 张 | F13: 15 | G13: 6000 | H13: 90000
A14: 2 | B14: 办公卡座 | C14: 长1.6 米，宽1.6 米，高1.2 米；或根据现场实际测量定制 | D14: 1、贴面板材：采用优质三聚氰胺纸 ,甲醛释放限量符合国家标准， 2、基材：采用通过国家技术标准的优质环保刨花板。确保甲醛排放达安全水平，经过防潮、防虫、防腐的化学处理，强度高，刚性好，不变形不开裂； 3、粘合剂：优质乳胶, 4、封边用材：≥2mm厚PVC胶边，优质热熔胶。 5、品牌优质五金配件； 6、脚架：采用静电粉末喷涂钢脚架。 7、每个位配活动柜一组 | E14: 张 | F14: 90 | G14: 4000 | H14: 360000
A15: 3 | B15: 电脑桌 | C15: 多媒体电教室使用，嵌入式，翻转桌电脑屏主机隐藏 | D15: 1、贴面板材：采用优质三聚氰胺纸 ,甲醛释放限量符合国家标准， 2、基材：采用通过国家技术标准的优质环保刨花板。确保甲醛排放达安全水平，经过防潮、防虫、防腐的化学处理，强度高，刚性好，不变形不开裂； 3、粘合剂：优质乳胶, 4、封边用材：2mm厚PVC胶边，优质热熔胶。 5、品牌优质五金配件； 6、脚架：采用静电粉末喷涂钢脚架。 7、每个位配活动柜一组 | E15: 张 | F15: 40 | G15: 3000 | H15: 120000
A16: 4 | B16: 多功能培训桌 | C16: 可折叠、可移动、多人联合开会培训，多种组合随意拼接；长方形：长1.2m*宽0.5m*高0.75m | D16: 1、面板：整体采用三聚氰胺浸渍纸双饰面刨花板，2mm厚PVC封边，封边与贴面同色 2、框架：铝合金材质、采用高温静电喷绘工艺：静电， 3、五金配件：采用三节缓冲滑轨，推拉平稳有回位功能，承重量为30KG。所有五金件作防锈、防腐处理且表面镀层没有剥落现象； 4、高弹力PU滚轮， 5、线控把手开关 | E16: 张 | F16: 132 | G16: 1000 | H16: 132000
A17: 5 | B17: 多功能培训桌椅 | C17: 可折叠、可移动、多人联合开会培训，多种组合随意拼接；长方形：长1.2m*宽0.5m*高0.75m | D17: 1、面板：整体采用三聚氰胺浸渍纸双饰面刨花板，2mm厚PVC封边，封边与贴面同色 2、框架：铝合金材质、采用高温静电喷绘工艺：静电， 3、五金配件：采用三节缓冲滑轨，推拉平稳有回位功能，承重量为30KG。所有五金件作防锈、防腐处理且表面镀层没有剥落现象； 4、高弹力PU滚轮， 5、线控把手开关 | E17: 套 | F17: 92 | G17: 4000 | H17: 368000
A18: 6 | B18: 会议桌 | C18: 根据现场实际测量定制 | D18: 1、贴面材料：采用优质木皮饰面， 2、封边用材：与贴面相同的实木木材； 3、基材：采用优质高密度中纤板,优质绿色环保产品。 4、品牌油漆：面漆采用PU聚脂漆,底漆采用PE不饱和树脂，甲苯、二甲苯、乙苯含量总和符合国家环保要求。 5、品牌优质五金配件； | E18: 张 | F18: =SUM(F19:F23) -> 68 | G18: 11696.97 | H18: =SUM(H19:H23) -> 803000
A19: 6.1 | B19: 会议桌（大号） | C19: 长度（或直径）大于 9 米；或根据现场实际测量定制 | D19: 1、贴面材料：采用优质木皮饰面， 2、封边用材：与贴面相同的实木木材； 3、基材：采用优质高密度中纤板,优质绿色环保产品。 4、品牌油漆：面漆采用PU聚脂漆,底漆采用PE不饱和树脂，甲苯、二甲苯、乙苯含量总和符合国家环保要求。 5、品牌优质五金配件； | E19: 张 | F19: 1 | G19: 20000 | H19: 20000
A20: 6.2 | B20: 会议桌（中号） | C20: 4.5米定制，可放置翻盖笔记本电脑；或根据现场实际测量定制 | D20: 1、贴面材料：采用优质木皮饰面， 2、封边用材：与贴面相同的实木木材； 3、基材：采用优质高密度中纤板,优质绿色环保产品。 4、品牌油漆：面漆采用PU聚脂漆,底漆采用PE不饱和树脂，甲苯、二甲苯、乙苯含量总和符合国家环保要求。 5、品牌优质五金配件； | E20: 张 | F20: 63 | G20: 12000 | H20: =F20*G20 -> 756000
A21: 6.3 | B21: 会议桌（小号） | C21: 长度（或直径）大于等于 4.2 米；或根据现场实际测量定制 | D21: 1、贴面板材：采用优质三聚氰胺纸 ,甲醛释放限量符合国家标准， 2、基材：采用通过国家技术标准的优质环保刨花板。确保甲醛排放达安全水平，经过防潮、防虫、防腐的化学处理，强度高，刚性好，不变形不开裂； 3、粘合剂：优质乳胶, 4、封边用材：≥2mm厚PVC胶边，优质热熔胶。 5、品牌优质五金配件； 6、脚架：钢制脚架，配有防滑脚垫。 | E21: 张 | F21: 2 | G21: 5000 | H21: =F21*G21 -> 10000
A22: 6.4 | B22: 圆形会议桌 | C22: 根据现场实际测量定制 | D22: 1、贴面材料：采用优质木皮饰面， 2、封边用材：与贴面相同的实木木材； 3、基材：采用优质高密度中纤板,优质绿色环保产品。 4、品牌油漆：面漆采用PU聚脂漆,底漆采用PE不饱和树脂，甲苯、二甲苯、乙苯含量总和符合国家环保要求。 5、品牌优质五金配件； | E22: 张 | F22: 1 | G22: 12000 | H22: =F22*G22 -> 12000
A23: 6.5 | B23: 折叠会议桌（小号） | C23: 长度（或直径）大于等于 4.2 米；或根据现场实际测量定制 | D23: 1、贴面板材：采用优质三聚氰胺纸 ,甲醛释放限量符合国家标准， 2、基材：采用通过国家技术标准的优质环保刨花板。确保甲醛排放达安全水平，经过防潮、防虫、防腐的化学处理，强度高，刚性好，不变形不开裂； 3、粘合剂：优质乳胶, 4、封边用材：≥2mm厚PVC胶边，优质热熔胶。 5、品牌优质五金配件； 6、脚架：钢制脚架，配有防滑脚垫。 | E23: 张 | F23: 1 | G23: 5000 | H23: 5000
A24: 7 | B24: 条形桌 | C24: 根据现场实际测量定制 | D24: 1.基材：厚E0级环保MFC基材； 2.饰面：三聚氰胺纸饰面； 3.封边：PVC封边带； 4.台面：≥25mm；台面下配支撑托； 5.钢架：铝合金立柱+铝合金脚， 6.脚轮：采用医用级TPU静音滑轮； 7.档板：吸音材质,挡板尺寸为900*300*9MM, 颜色可选深银灰 | E24: 张 | F24: =SUM(F25:F29) -> 276 | G24: 1040.2174 | H24: =SUM(H25:H29) -> 287100
A25: 7.1 | B25: 条形桌1 | C25: 1.8*0.6*0.75；或根据现场实际测量定制 | D25: 1.基材：厚E0级环保MFC基材； 2.饰面：三聚氰胺纸饰面； 3.封边：PVC封边带； 4.台面：≥25mm；台面下配支撑托； 5.钢架：铝合金立柱+铝合金脚， 6.脚轮：采用医用级TPU静音滑轮； 7.档板：吸音材质,挡板尺寸为900*300*9MM, 颜色可选深银灰 | E25: 张 | F25: 8 | G25: 1200 | H25: 9600
A26: 7.2 | B26: 条形桌2 | C26: 1500*650*750；或根据现场实际测量定制 | D26: 1.基材：厚E0级环保MFC基材； 2.饰面：三聚氰胺纸饰面； 3.封边：PVC封边带； 4.台面：≥25mm；台面下配支撑托； 5.钢架：铝合金立柱+铝合金脚， 6.脚轮：采用医用级TPU静音滑轮； 7.档板：吸音材质,挡板尺寸为900*300*9MM, 颜色可选深银灰 | E26: 张 | F26: 107 | G26: 1200 | H26: 128400
A27: 7.3 | B27: 条形桌3 | C27: 长1.2×宽0.4，带置物层；或根据现场实际测量定制 | D27: 1.基材：厚E0级环保MFC基材； 2.饰面：三聚氰胺纸饰面； 3.封边：PVC封边带； 4.台面：≥25mm；台面下配支撑托； 5.钢架：铝合金立柱+铝合金脚， 6.脚轮：采用医用级TPU静音滑轮； 7.档板：吸音材质,挡板尺寸为900*300*9MM, 颜色可选深银灰 | E27: 张 | F27: 70 | G27: 900 | H27: 63000
A28: 7.4 | B28: 条形桌4 | C28: 长1.2×宽0.4；或根据现场实际测量定制 | D28: 1.基材：厚E0级环保MFC基材； 2.饰面：三聚氰胺纸饰面； 3.封边：PVC封边带； 4.台面：≥25mm；台面下配支撑托； 5.钢架：铝合金立柱+铝合金脚， 6.脚轮：采用医用级TPU静音滑轮； 7.档板：吸音材质,挡板尺寸为900*300*9MM, 颜色可选深银灰 | E28: 张 | F28: 77 | G28: 900 | H28: 69300
A29: 7.5 | B29: 条形桌5 | C29: 长1.8米，宽0.4米；或根据现场实际测量定制 | D29: 1.基材：厚E0级环保MFC基材； 2.饰面：三聚氰胺纸饰面； 3.封边：PVC封边带； 4.台面：≥25mm；台面下配支撑托； 5.钢架：铝合金立柱+铝合金脚， 6.脚轮：采用医用级TPU静音滑轮； 7.档板：吸音材质,挡板尺寸为900*300*9MM, 颜色可选深银灰 | E29: 张 | F29: 14 | G29: 1200 | H29: 16800
A30: 8 | B30: 扇形可折叠组合桌 | C30: 折叠会议桌椅扇形组合培训桌智慧教室桌椅桌椅组合多边形拼接 | D30: 1、贴面板材：采用优质三聚氰胺纸 ,甲醛释放限量符合国家标准， 2、基材：采用通过国家技术标准的优质环保刨花板。确保甲醛排放达安全水平，经过防潮、防虫、防腐的化学处理，强度高，刚性好，不变形不开裂； 3、粘合剂：优质乳胶, 4、封边用材：2mm厚PVC胶边，优质热熔胶。 5、品牌优质五金配件； 6、脚架：采用静电粉末喷涂钢脚架。 7、每个位配活动柜一组 | E30: 组 | F30: 9 | G30: 1000 | H30: 9000
A31: 9 | B31: 阅览桌 | C31: 根据现场实际测量定制 | D31: 1、贴面材料：采用优质木皮饰面， 2、封边用材：与贴面相同的实木木材； 3、基材：采用优质高密度中纤板,优质绿色环保产品。 4、品牌油漆：面漆采用PU聚脂漆,底漆采用PE不饱和树脂，甲苯、二甲苯、乙苯含量总和符合国家环保要求。 5、品牌优质五金配件； | E31: 张 | F31: =SUM(F32:F35) -> 9 | G31: 3777.7778 | H31: =SUM(H32:H35) -> 34000
A32: 9.1 | B32: 阅览桌1 | C32: 1600W*700D*760H | D32: 1、贴面材料：采用优质木皮饰面， 2、封边用材：与贴面相同的实木木材； 3、基材：采用优质高密度中纤板,优质绿色环保产品。 4、品牌油漆：面漆采用PU聚脂漆,底漆采用PE不饱和树脂，甲苯、二甲苯、乙苯含量总和符合国家环保要求。 5、品牌优质五金配件； | E32: 张 | F32: 4 | G32: 3000 | H32: 12000
A33: 9.2 | B33: 阅览桌1 | C33: 1600W*600D*760H | D33: 1、贴面材料：采用优质木皮饰面， 2、封边用材：与贴面相同的实木木材； 3、基材：采用优质高密度中纤板,优质绿色环保产品。 4、品牌油漆：面漆采用PU聚脂漆,底漆采用PE不饱和树脂，甲苯、二甲苯、乙苯含量总和符合国家环保要求。 5、品牌优质五金配件； | E33: 张 | F33: 1 | G33: 3000 | H33: 3000
A34: 9.3 | B34: 阅览桌2 | C34: 2400W*1200D*760H | D34: 1、贴面材料：采用优质木皮饰面， 2、封边用材：与贴面相同的实木木材； 3、基材：采用优质高密度中纤板,优质绿色环保产品。 4、品牌油漆：面漆采用PU聚脂漆,底漆采用PE不饱和树脂，甲苯、二甲苯、乙苯含量总和符合国家环保要求。 5、品牌优质五金配件； | E34: 张 | F34: 3 | G34: 5000 | H34: 15000
A35: 9.4 | B35: 阅览桌3 | C35: 2400W*800D*760H | D35: 1、贴面材料：采用优质木皮饰面， 2、封边用材：与贴面相同的实木木材； 3、基材：采用优质高密度中纤板,优质绿色环保产品。 4、品牌油漆：面漆采用PU聚脂漆,底漆采用PE不饱和树脂，甲苯、二甲苯、乙苯含量总和符合国家环保要求。 5、品牌优质五金配件； | E35: 张 | F35: 1 | G35: 4000 | H35: 4000
A36: 10 | B36: 长条桌 | C36: 长1.8×宽0.4*高0.75 | D36: 1.基材：厚E0级环保MFC基材； 2.饰面：三聚氰胺纸饰面； 3.封边：PVC封边带； 4.台面：25mm；台面下配支撑托； 5.钢架：铝合金立柱+铝合金脚， 6.脚轮：采用医用级TPU静音滑轮； 7.档板：吸音材质,挡板尺寸为900*300*9MM, 颜色可选深银灰 | E36: 张 | F36: 2 | G36: 1200 | H36: 2400
A37: 11 | B37: 户外圆桌 | C37: 1.管型：25*20*1.2mm, Φ70*2.0mm, 2.底盘：铝板48*48*5mm | D37: 3.架子颜色：砂纹白 面板：钢化玻璃≥6mm厚，表面药砂处理 白色 | E37: 张 | F37: 180 | G37: 1000 | H37: =F37*G37 -> 180000
A38: 12 | B38: 餐台 | C38: 1.8米长*0.8米宽 | D38: 1、贴面板材：采用优质三聚氰胺纸 ,甲醛释放限量符合国家标准， 2、基材：采用通过国家技术标准的优质环保刨花板。确保甲醛排放达安全水平，经过防潮、防虫、防腐的化学处理，强度高，刚性好，不变形不开裂； 3、粘合剂：优质乳胶, 4、封边用材：≥2mm厚PVC胶边，优质热熔胶。 5、品牌优质五金配件； 6、脚架：钢制脚架，配有防滑脚垫。 | E38: 个 | F38: =SUM(F39:F40) -> 48 | G38: 2693.3333 | H38: =SUM(H39:H40) -> 129280
A39: 12.1 | B39: 餐台1 | C39: 1.8米长*0.8米宽 | D39: 1、贴面板材：采用优质三聚氰胺纸 ,甲醛释放限量符合国家标准， 2、基材：采用通过国家技术标准的优质环保刨花板。确保甲醛排放达安全水平，经过防潮、防虫、防腐的化学处理，强度高，刚性好，不变形不开裂； 3、粘合剂：优质乳胶, 4、封边用材：≥2mm厚PVC胶边，优质热熔胶。 5、品牌优质五金配件； 6、脚架：钢制脚架，配有防滑脚垫。 | E39: 个 | F39: 2 | G39: 3000 | H39: 6000
A40: 12.2 | B40: 餐台2 | C40: 定制 | D40: 1、贴面板材：采用优质三聚氰胺纸 ,甲醛释放限量符合国家标准， 2、基材：采用通过国家技术标准的优质环保刨花板。确保甲醛排放达安全水平，经过防潮、防虫、防腐的化学处理，强度高，刚性好，不变形不开裂； 3、粘合剂：优质乳胶, 4、封边用材：≥2mm厚PVC胶边，优质热熔胶。 5、品牌优质五金配件； 6、脚架：钢制脚架，配有防滑脚垫。 | E40: 个 | F40: 46 | G40: 2680 | H40: 123280
...

Sheet 办公家具透视表
A3: 产品名称 | B3: 规格参数 | C3: 材质参数 | D3: 单位 | E3: 单价（元） | F3: 求和项:数量 | G3: 求和项:总价 （元）
A4: 3门文件柜 | B4: 常规 | C4: 1.基材：E0级MFC基材、铁皮 2.锁具：使用品牌锁具 3.底部支撑：矮柜使用轻型柜底支撑(TP-12B型柜底支撑) 4.内部结构：上带两块活层，下带一块活层；整体为门板覆盖顶、底板； 5.层板厚度：层/底板为≥25mm，其余为≥16mm； 6.铝框玻璃门默认不带锁具，所使用的玻璃标配为钢化玻璃 | D4: 个 | E4: 4000 | F4: 11 | G4: 44000
A5: L型治疗组合柜 | B5: 上吊柜可下拉 下台面柜 换药室（根据现场实际测量定制） | C5: 1、柜体：采用≥1.0mm一级电解钢板。 2、门板：采用一级电解钢板。 3、拉手：一字折弯暗拉手。 4、表面处理：表面采用环氧树脂粉末喷涂，涂层膜厚度均匀，内外一致，耐撞击，抗腐蚀力强。 5、台面医用级纯亚克力台面，厚度≥12mm。 | D5: 套 | E5: 15000 | F5: 78 | G5: 1170000
A6: PP滴水架 | B6: 常规 | C6: 实验室导流管配件沥水架 烧杯器皿晾干架 | D6: 个 | E6: 200 | F6: 2 | G6: 400
A7: PP水槽 | B7: 常规 | C7: 高密度聚丙烯防腐蚀 | D7: 个 | E7: 600 | F7: 2 | G7: 1200
A8: 办公柜 | B8: 根据护士站范围定制 | C8: (空白) | D8: 米 | E8: 2000 | F8: 6 | G8: 12000
A9: 办公卡座 | B9: 长1.6 米，宽1.6 米，高1.2 米；或根据现场实际测量定制 | C9: 1、贴面板材：采用优质三聚氰胺纸 ,甲醛释放限量符合国家标准， 2、基材：采用通过国家技术标准的优质环保刨花板。确保甲醛排放达安全水平，经过防潮、防虫、防腐的化学处理，强度高，刚性好，不变形不开裂； 3、粘合剂：优质乳胶, 4、封边用材：≥2mm厚PVC胶边，优质热熔胶。 5、品牌优质五金配件； 6、脚架：采用静电粉末喷涂钢脚架。 7、每个位配活动柜一组 | D9: 张 | E9: 4000 | F9: 90 | G9: 360000
A10: 办公台 | B10: 根据护士站范围定制 | C10: (空白) | D10: 米 | E10: 2000 | F10: 8 | G10: 16000
A11: 办公椅 | B11: 常规 | C11: 1、椅背：采用专用优质网布，整个框架为工程塑胶框架，结实耐用，曲线造型，更显得十分美观自然； 2、座垫：采用复合高弹海棉，面覆优质网布； 3、扶手：为PU扶手； 4、脚架：采用优质五星脚架。 | D11: 张 | E11: 1320 | F11: 2348 | G11: 3099360
A12: 办公椅 | B12: 常规 | C12: PU聚氨酯一体成型发泡坐、靠背椅面，内置≥10mm厚夹板，聚氨酯发泡包裹木板，结实耐用、耐 磨， | D12: 张 | E12: 1750 | F12: 253 | G12: 442750
A13: 办公椅 | B13: 常规 | C13: PU聚氨酯一体成型发泡坐、靠背椅面，内置≥10mm厚夹板，聚氨酯发泡包裹木板，结实耐用、耐 磨， | D13: 张 | E13: 2000 | F13: 19 | G13: 38000
A14: 办公桌 | B14: 1000*600*750 | C14: 1、贴面板材：采用优质三聚氰胺纸 ,甲醛释放限量符合国家标准， 2、基材：采用通过国家技术标准的优质环保刨花板。确保甲醛排放达安全水平，经过防潮、防虫、防腐的化学处理，强度高，刚性好，不变形不开裂； 3、粘合剂：优质乳胶, 4、封边用材：≥2mm厚PVC胶边，优质热熔胶。 5、品牌优质五金配件； 6、脚架：采用静电粉末喷涂钢脚架。 7、每个位配活动柜一组 | D14: 个 | E14: 800 | F14: 986 | G14: 788800
A15: 办公桌 | B15: 1000*600*750 | C15: 1、贴面板材：采用优质三聚氰胺纸 ,甲醛释放限量符合国家标准， 2、基材：采用通过国家技术标准的优质环保刨花板。确保甲醛排放达安全水平，经过防潮、防虫、防腐的化学处理，强度高，刚性好，不变形不开裂； 3、粘合剂：优质乳胶, 4、封边用材：≥2mm厚PVC胶边，优质热熔胶。 5、品牌优质五金配件； 6、脚架：采用静电粉末喷涂钢脚架。 7、每个位配活动柜一组 | D15: 张 | E15: 800 | F15: 4 | G15: 3200
... A89: 固定架 | B89: 固定拖把 | C89: 不锈钢 | D89: 个 | E89: 100 | F89: 36 | G89: 3600
A90: 合计 | B90: (空白) | C90: (空白) | D90: (空白) | E90: (空白) | F90: 20870.6 | G90: 43757354
A91: 红木文件柜 | B91: 长 0.8米，宽0.4 米，高 2.2 米； | C91: 1.基材：E0级MFC基材、铁皮 2.锁具：使用品牌锁具 3.底部支撑：矮柜使用轻型柜底支撑(TP-12B型柜底支撑) 4.内部结构：上带两块活层，下带一块活层；整体为门板覆盖顶、底板； 5.层板厚度：层/底板为≥25mm，其余为≥16mm； 6.铝框玻璃门默认不带锁具，所使用的玻璃标配为钢化玻璃 | D91: 个 | E91: 3000 | F91: 3 | G91: 9000
A92: 后勤综合楼 | B92: (空白) | C92: (空白) | D92: (空白) | E92: (空白) | F92: 5578.6 | G92: 8826130
A93: 化妆桌 | B93: （带镜子和灯光）2400*700*750 | C93: 人造板 | D93: 张 | E93: 3000 | F93: 4 | G93: 12000
A94: 会客椅 | B94: 常规 | C94: 1.椅身：采用全新聚丙烯加玻璃纤维，由两部分组成（座面、装饰壳），整椅胶背深度≥440mm,整椅胶背高度≥441mm，胶背顶腰高度≥155mm,重量≥3.35kg。椅身和装饰壳通过颜色区分搭配。 2.座面：深度≥520mm,座板宽≥440mm,厚度≥7.5mm，背部分是运用埃菲尔铁塔的元素设计，铁塔底部宽度为≥215mm，上部宽度为≥120mm，结合腰位、颈椎位置巧妙的设计出3D立面的椅背，为了更好的撑腰护脊，贴腰和包覆性明显。胶背顶部宽度350mm，回翻式设计，可以方便使用者手提搬运。≥ 3.装饰壳：采用全新ABS材质，3D等腰梯形设计，厚度≥5mm，重量≥0.05kg；外部梯形部分采用光面材质，上宽≥100mm，下宽≥215mm，高度≥135mm，腰长≥140mm，厚度≥5mm；内部梯形采用磨砂材质，上宽≥70mm，下宽≥180mm，高度≥105mm，腰长≥110mm；安装方式是卡扣加隐藏式螺丝。 4.优质白蜡木椅脚，较高的光泽度，质地细密，不易吸水，耐腐蚀，强度大，稳定性强，断裂强度高、抗震能力特别强，结实耐用，使用年限长。表面清漆处理，符合国家环保标准。内置优质铁架15*15*1.5，连接胶背坐板，更加稳定和实效。 | D94: 张 | E94: 890 | F94: 120 | G94: 106800
A95: 会议椅 | B95: 常规 | C95: 1、面料：选用优质皮质面料，防潮、防污易清洁等，皮面柔软舒适，光泽持久性好，手感柔软，纹理细腻，富有弹性； 2、海绵：采用优质PU阻燃成型高密度泡绵，在常期负重状态下性能保持良好。泡棉表面做防腐化和防变形保护膜，耐久不变形，高回弹，耐冲击。 3、扶手：铝合金扶手架，配皮扶手面。 4、脚架：优质五星脚架，带静音滑轮 | D95: 个 | E95: 1100 | F95: 40 | G95: 44000
A96: 会议椅 | B96: 常规 | C96: 1、面料：选用优质皮质面料，防潮、防污易清洁等，皮面柔软舒适，光泽持久性好，手感柔软，纹理细腻，富有弹性； 2、海绵：采用优质PU阻燃成型高密度泡绵，在常期负重状态下性能保持良好。泡棉表面做防腐化和防变形保护膜，耐久不变形，高回弹，耐冲击。 3、扶手：铝合金扶手架，配皮扶手面。 4、脚架：优质五星脚架，带静音滑轮 | D96: 张 | E96: 1100 | F96: 322 | G96: 354200
A97: 会议桌（大号） | B97: 长度（或直径）大于 9 米；或根据现场实际测量定制 | C97: 1、贴面材料：采用优质木皮饰面， 2、封边用材：与贴面相同的实木木材； 3、基材：采用优质高密度中纤板,优质绿色环保产品。 4、品牌油漆：面漆采用PU聚脂漆,底漆采用PE不饱和树脂，甲苯、二甲苯、乙苯含量总和符合国家环保要求。 5、品牌优质五金配件； | D97: 张 | E97: 20000 | F97: 1 | G97: 20000
A98: 会议桌（小号） | B98: 长度（或直径）大于等于 4.2 米；或根据现场实际测量定制 | C98: 1、贴面板材：采用优质三聚氰胺纸 ,甲醛释放限量符合国家标准， 2、基材：采用通过国家技术标准的优质环保刨花板。确保甲醛排放达安全水平，经过防潮、防虫、防腐的化学处理，强度高，刚性好，不变形不开裂； 3、粘合剂：优质乳胶, 4、封边用材：≥2mm厚PVC胶边，优质热熔胶。 5、品牌优质五金配件； 6、脚架：钢制脚架，配有防滑脚垫。 | D98: 张 | E98: 5000 | F98: 12 | G98: 60000
A99: 会议桌（中号） | B99: 4.5米定制，可放置翻盖笔记本电脑；或根据现场实际测量定制 | C99: 1、贴面材料：采用优质木皮饰面， 2、封边用材：与贴面相同的实木木材； 3、基材：采用优质高密度中纤板,优质绿色环保产品。 4、品牌油漆：面漆采用PU聚脂漆,底漆采用PE不饱和树脂，甲苯、二甲苯、乙苯含量总和符合国家环保要求。 5、品牌优质五金配件； | D99: 张 | E99: 12000 | F99: 44 | G99: 528000
A100: 肌注凳 | B100: 常规 | C100: 1、框架采用工程塑料全新料（PP+玻纤），抗老化 2、面料采用网布。 3、可调节扶手，可向上翻转90°，通过91kg的静压测试和45kg的水平拉力测试。 4、高密度纯棉，海绵密度≥45kg/m³，回弹率≥35%。 5、座板：采用12mm的成型板，带座壳 6、2.5MM厚蝴蝶专用底盘 7、二级电镀拉深下沉100汽杆，氮气纯度达99.99%，内壁厚度1.5mm,外壁比1.2mm，通过SGS认证。 8、高强度白色PP脚。 9、PA+PU黑轮，115公斤负重下转动10万周无故障。 10、PP弹性护腰腰片支撑、底盘逍遥逍遥90°和125°及原位锁定；气杆升降，扶手可上下活动 | D100: 张 | E100: 500 | F100: 2 | G100: 1000
A101: 讲台 | B101: 常规 | C101: 1、基材：采用E1 级刨花板及中纤板，符合GB 18580-2017《室内装饰装修材料 人造板及其制品中甲醛释放限量》 2、贴面：采用AAA级实木皮贴面，厚度≥0.8mm 3、封边：实木封边条，符合QB/T4463-2013《家具用封边条技术要求》 4、油漆：采用优质环保水性面漆和水性底漆，并经过五底三面油漆工艺处理，各指标均达到SZJG 52-2016《家具成品及原辅材料有害物质限量》要求； 5、台面三面围合，下部带储物柜及空格柜，根据采购方需求设计。台面可内嵌显示屏，麦克风，满足及配合信息化走线、开孔需求。 备注：图片仅供参考，具体材质、样式、颜色需与采购方确认。 6、后期检测验收参考标准： SZJG 52-2016 《家具成品及原辅材料中有害物质限量》 GB/T 334-2017《木家具通用技术条件》 | D101: 张 | E101: 2600 | F101: 7 | G101: 18200
A102: 靠背椅 | B102: 可升降，带滑轮 | C102: 不锈钢 | D102: 个 | E102: 1000 | F102: 20 | G102: 20000
A103: 靠背椅 | B103: 可升降，带滑轮，全不锈钢 | C103: 不锈钢 | D103: 个 | E103: 1000 | F103: 15 | G103: 15000
A104: 连排椅 | B104: 长 2米，宽 0.5 米，高 0.9米 | C104: 1、椅身及扶手面：PU成型自结皮饰面，温馨耐用，密度达到60kg\m³，拉伸强度≥90kPa，伸长率≥130%，回弹率≥35%，撕裂强度≥2.0N/cm，干热老化后拉伸强度≥55kPa甲醛释放≤0.120mg/m2h,TVOC≤0.5mg/m2h。 2、内框架：采用厚度12MM冷轧钢板激光切割成型后焊接而成，所有焊接部分均为满焊，结实稳固。 3、横梁：高强度135*100*100三角形冷轧钢管，表面喷涂处理，金属抗盐雾 4、脚架：高强度冷轧方形钢管，表面喷涂处理，金属抗盐雾 18h。 | D104: 张 | E104: 3000 | F104: 36 | G104: 108000
... A181: 组合沙发 (1+1+3) | B181: 常规 | C181: 1、面料：采用优质皮质面料，透气强，柔软且富有韧性，厚度适中，手感良好； 2、海绵：采用高回弹聚胺脂定型海棉或高密度成型PU泡棉，密度高，软硬适中，回弹性好，不含氟氨化合物，无甲醛及二甲苯等异味； 3、框架：选用上等的实木方，材质坚硬、刚性强、含水率符合国家标准，防腐、防虫永不变形。 4、脚架：选用优质金属脚架 | D181: 套 | E181: 6000 | F181: 60 | G181: 360000
A182: (空白) | B182: (空白) | C182: (空白) | D182: (空白) | E182: (空白) | F182: 15292 | G182: 34931224
A183: 总计 | F183: 62611.8 | G183: 1.3127206e+08

Sheet Sheet1
A3: 产品名称 | B3: 规格参数 | C3: 材质参数 | D3: 单位 | E3: 单价（元） | F3: 求和项:数量 | G3: 求和项:总价 （元）
A4: 3门文件柜 | B4: 常规 | C4: 1.基材：E0级MFC基材、铁皮 2.锁具：使用品牌锁具 3.底部支撑：矮柜使用轻型柜底支撑(TP-12B型柜底支撑) 4.内部结构：上带两块活层，下带一块活层；整体为门板覆盖顶、底板； 5.层板厚度：层/底板为≥25mm，其余为≥16mm； 6.铝框玻璃门默认不带锁具，所使用的玻璃标配为钢化玻璃 | D4: 个 | E4: 4000 | F4: 11 | G4: 44000
A5: L型治疗组合柜 | B5: 上吊柜可下拉 下台面柜 换药室（根据现场实际测量定制） | C5: 1、柜体：采用≥1.0mm一级电解钢板。 2、门板：采用一级电解钢板。 3、拉手：一字折弯暗拉手。 4、表面处理：表面采用环氧树脂粉末喷涂，涂层膜厚度均匀，内外一致，耐撞击，抗腐蚀力强。 5、台面医用级纯亚克力台面，厚度≥12mm。 | D5: 套 | E5: 15000 | F5: 1 | G5: 15000
A6: PP滴水架 | B6: 常规 | C6: 实验室导流管配件沥水架 烧杯器皿晾干架 | D6: 个 | E6: 200 | F6: 2 | G6: 400
A7: PP水槽 | B7: 常规 | C7: 高密度聚丙烯防腐蚀 | D7: 个 | E7: 600 | F7: 2 | G7: 1200
A8: 办公柜 | B8: 根据护士站范围定制 | C8: 1.基材：E0级MFC基材、铁皮 2.锁具：使用品牌锁具 3.底部支撑：矮柜使用轻型柜底支撑(TP-12B型柜底支撑) 4.内部结构：上带两块活层，下带一块活层；整体为门板覆盖顶、底板； 5.层板厚度：层/底板为≥25mm，其余为≥16mm； 6.铝框玻璃门默认不带锁具，所使用的玻璃标配为钢化玻璃 | D8: 米 | E8: 2000 | F8: 6 | G8: 12000
A9: 办公卡座 | B9: 长1.6 米，宽1.6 米，高1.2 米；或根据现场实际测量定制 | C9: 1、贴面板材：采用优质三聚氰胺纸 ,甲醛释放限量符合国家标准， 2、基材：采用通过国家技术标准的优质环保刨花板。确保甲醛排放达安全水平，经过防潮、防虫、防腐的化学处理，强度高，刚性好，不变形不开裂； 3、粘合剂：优质乳胶, 4、封边用材：≥2mm厚PVC胶边，优质热熔胶。 5、品牌优质五金配件； 6、脚架：采用静电粉末喷涂钢脚架。 7、每个位配活动柜一组 | D9: 张 | E9: 4000 | F9: 90 | G9: 360000
A10: 办公椅 | B10: 常规 | C10: 1、椅背：采用专用优质网布，整个框架为工程塑胶框架，结实耐用，曲线造型，更显得十分美观自然； 2、座垫：采用复合高弹海棉，面覆优质网布； 3、扶手：为PU扶手； 4、脚架：采用优质五星脚架。 | D10: 张 | E10: 1320 | F10: 2593 | G10: 3422760
A11: 办公椅 | B11: 常规 | C11: PU聚氨酯一体成型发泡坐、靠背椅面，内置≥10mm厚夹板，聚氨酯发泡包裹木板，结实耐用、耐 磨， | D11: 张 | E11: 1320 | F11: 2 | G11: 2640
A12: 办公椅 | B12: 常规 | C12: PU聚氨酯一体成型发泡坐、靠背椅面，内置≥10mm厚夹板，聚氨酯发泡包裹木板，结实耐用、耐 磨， | D12: 张 | E12: 1750 | F12: 268 | G12: 469000
A13: 办公椅 | B13: 常规 | C13: PU聚氨酯一体成型发泡坐、靠背椅面，内置≥10mm厚夹板，聚氨酯发泡包裹木板，结实耐用、耐 磨， | D13: 张 | E13: 2000 | F13: 19 | G13: 38000
A14: 办公椅 | B14: 常规 | C14: 类别：四脚椅 五星脚材质：锦纶/尼龙(聚酰胺纤维) 面料材质：网布 | D14: 张 | E14: 1320 | F14: 30 | G14: 39600
A15: 办公桌 | B15: 1000*600*750 | C15: 1、贴面板材：采用优质三聚氰胺纸 ,甲醛释放限量符合国家标准， 2、基材：采用通过国家技术标准的优质环保刨花板。确保甲醛排放达安全水平，经过防潮、防虫、防腐的化学处理，强度高，刚性好，不变形不开裂； 3、粘合剂：优质乳胶, 4、封边用材：≥2mm厚PVC胶边，优质热熔胶。 5、品牌优质五金配件； 6、脚架：采用静电粉末喷涂钢脚架。 7、每个位配活动柜一组 | D15: 张 | E15: 800 | F15: 869 | G15: 695200
... A203: 座椅 | B203: 常规 | C203: 1.椅身：采用全新聚丙烯加玻璃纤维，由两部分组成（座面、装饰壳），整椅胶背深度≥440mm,整椅胶背高度≥441mm，胶背顶腰高度≥155mm,重量≥3.35kg。椅身和装饰壳通过颜色区分搭配。 2.座面：深度≥520mm,座板宽≥440mm,厚度≥7.5mm，背部分是运用埃菲尔铁塔的元素设计，铁塔底部宽度为≥215mm，上部宽度为≥120mm，结合腰位、颈椎位置巧妙的设计出3D立面的椅背，为了更好的撑腰护脊，贴腰和包覆性明显。胶背顶部宽度350mm，回翻式设计，可以方便使用者手提搬运。≥ 3.装饰壳：采用全新ABS材质，3D等腰梯形设计，厚度≥5mm，重量≥0.05kg；外部梯形部分采用光面材质，上宽≥100mm，下宽≥215mm，高度≥135mm，腰长≥140mm，厚度≥5mm；内部梯形采用磨砂材质，上宽≥70mm，下宽≥180mm，高度≥105mm，腰长≥110mm；安装方式是卡扣加隐藏式螺丝。 4.优质白蜡木椅脚，较高的光泽度，质地细密，不易吸水，耐腐蚀，强度大，稳定性强，断裂强度高、抗震能力特别强，结实耐用，使用年限长。表面清漆处理，符合国家环保标准。内置优质铁架15*15*1.5，连接胶背坐板，更加稳定和实效。 | D203: 张 | E203: 890 | F203: 229 | G203: 203810
A204: (空白) | B204: (空白) | C204: (空白) | D204: (空白) | E204: (空白) | F204: 22430 | G204: 54469844
A205: 总计 | F205: 45097 | G205: 1.0893969e+08

Sheet 办公家具702透视表
A3: 产品名称 | B3: 规格参数 | C3: 材质参数 | D3: 单位 | E3: 单价（元） | F3: 求和项:数量 （台/套） | G3: 求和项:总价 （元）
A4: 3门文件柜 | B4: 常规 | C4: 1.基材：E0级MFC基材、铁皮 2.锁具：使用品牌锁具 3.底部支撑：矮柜使用轻型柜底支撑(TP-12B型柜底支撑) 4.内部结构：上带两块活层，下带一块活层；整体为门板覆盖顶、底板； 5.层板厚度：层/底板为≥25mm，其余为≥16mm； 6.铝框玻璃门默认不带锁具，所使用的玻璃标配为钢化玻璃 | D4: 个 | E4: 4000 | F4: 11 | G4: 44000
A5: PP滴水架 | B5: 常规 | C5: 实验室导流管配件沥水架 烧杯器皿晾干架 | D5: 个 | E5: 200 | F5: 2 | G5: 400
A6: PP水槽 | B6: 常规 | C6: 高密度聚丙烯防腐蚀 | D6: 个 | E6: 600 | F6: 2 | G6: 1200
A7: 办公柜 | B7: 根据护士站范围定制 | C7: 1.基材：E0级MFC基材、铁皮 2.锁具：使用品牌锁具 3.底部支撑：矮柜使用轻型柜底支撑(TP-12B型柜底支撑) 4.内部结构：上带两块活层，下带一块活层；整体为门板覆盖顶、底板； 5.层板厚度：层/底板为≥25mm，其余为≥16mm； 6.铝框玻璃门默认不带锁具，所使用的玻璃标配为钢化玻璃 | D7: 米 | E7: 2000 | F7: 6 | G7: 12000
A8: 办公卡座 | B8: 长1.6 米，宽1.6 米，高1.2 米；或根据现场实际测量定制 | C8: 1、贴面板材：采用优质三聚氰胺纸 ,甲醛释放限量符合国家标准， 2、基材：采用通过国家技术标准的优质环保刨花板。确保甲醛排放达安全水平，经过防潮、防虫、防腐的化学处理，强度高，刚性好，不变形不开裂； 3、粘合剂：优质乳胶, 4、封边用材：≥2mm厚PVC胶边，优质热熔胶。 5、品牌优质五金配件； 6、脚架：采用静电粉末喷涂钢脚架。 7、每个位配活动柜一组 | D8: 张 | E8: 4000 | F8: 90 | G8: 360000
A9: 办公椅 | B9: 常规 | C9: 1、椅背：采用专用优质网布，整个框架为工程塑胶框架，结实耐用，曲线造型，更显得十分美观自然； 2、座垫：采用复合高弹海棉，面覆优质网布； 3、扶手：为PU扶手； 4、脚架：采用优质五星脚架。 | D9: 张 | E9: 1320 | F9: 1641 | G9: 2166120
A10: 办公椅 | B10: 常规 | C10: PU聚氨酯一体成型发泡坐、靠背椅面，内置≥10mm厚夹板，聚氨酯发泡包裹木板，结实耐用、耐 磨， | D10: 张 | E10: 1320 | F10: 2 | G10: 2640
A11: 办公椅 | B11: 常规 | C11: PU聚氨酯一体成型发泡坐、靠背椅面，内置≥10mm厚夹板，聚氨酯发泡包裹木板，结实耐用、耐 磨， | D11: 张 | E11: 1750 | F11: 211 | G11: 369250
A12: 办公椅 | B12: 常规 | C12: PU聚氨酯一体成型发泡坐、靠背椅面，内置≥10mm厚夹板，聚氨酯发泡包裹木板，结实耐用、耐 磨， | D12: 张 | E12: 2000 | F12: 19 | G12: 38000
A13: 办公椅 | B13: 常规 | C13: 类别：四脚椅 五星脚材质：锦纶/尼龙(聚酰胺纤维) 面料材质：网布 | D13: 张 | E13: 1320 | F13: 30 | G13: 39600
A14: 办公桌 | B14: 1000*600*750 | C14: 1、贴面板材：采用优质三聚氰胺纸 ,甲醛释放限量符合国家标准， 2、基材：采用通过国家技术标准的优质环保刨花板。确保甲醛排放达安全水平，经过防潮、防虫、防腐的化学处理，强度高，刚性好，不变形不开裂； 3、粘合剂：优质乳胶, 4、封边用材：≥2mm厚PVC胶边，优质热熔胶。 5、品牌优质五金配件； 6、脚架：采用静电粉末喷涂钢脚架。 7、每个位配活动柜一组 | D14: 张 | E14: 800 | F14: 29 | G14: 23200
A15: 办公桌 | B15: L型 | C15: 1、贴面板材：采用优质三聚氰胺纸 ,甲醛释放限量符合国家标准， 2、基材：采用通过国家技术标准的优质环保刨花板。确保甲醛排放达安全水平，经过防潮、防虫、防腐的化学处理，强度高，刚性好，不变形不开裂； 3、粘合剂：优质乳胶, 4、封边用材：≥2mm厚PVC胶边，优质热熔胶。 5、品牌优质五金配件； 6、脚架：采用静电粉末喷涂钢脚架。 7、每个位配活动柜一组 | D15: 张 | E15: 6000 | F15: 13 | G15: 78000
... A178: 座椅 | B178: 常规 | C178: 1.椅身：采用全新聚丙烯加玻璃纤维，由两部分组成（座面、装饰壳），整椅胶背深度≥440mm,整椅胶背高度≥441mm，胶背顶腰高度≥155mm,重量≥3.35kg。椅身和装饰壳通过颜色区分搭配。 2.座面：深度≥520mm,座板宽≥440mm,厚度≥7.5mm，背部分是运用埃菲尔铁塔的元素设计，铁塔底部宽度为≥215mm，上部宽度为≥120mm，结合腰位、颈椎位置巧妙的设计出3D立面的椅背，为了更好的撑腰护脊，贴腰和包覆性明显。胶背顶部宽度350mm，回翻式设计，可以方便使用者手提搬运。≥ 3.装饰壳：采用全新ABS材质，3D等腰梯形设计，厚度≥5mm，重量≥0.05kg；外部梯形部分采用光面材质，上宽≥100mm，下宽≥215mm，高度≥135mm，腰长≥140mm，厚度≥5mm；内部梯形采用磨砂材质，上宽≥70mm，下宽≥180mm，高度≥105mm，腰长≥110mm；安装方式是卡扣加隐藏式螺丝。 4.优质白蜡木椅脚，较高的光泽度，质地细密，不易吸水，耐腐蚀，强度大，稳定性强，断裂强度高、抗震能力特别强，结实耐用，使用年限长。表面清漆处理，符合国家环保标准。内置优质铁架15*15*1.5，连接胶背坐板，更加稳定和实效。 | D178: 张 | E178: 890 | F178: 149 | G178: 132610
A179: (空白) | B179: (空白) | C179: (空白) | D179: (空白) | E179: (空白) | G179: 35213804
A180: 总计 | F180: 14803 | G180: 70427609

Sheet 附表1-1办公家具汇总表702床（未分类）
A2: 序号 | B2: 产品名称 | C2: 规格参数 | D2: 材质参数 | E2: 单位 | F2: 数量 | G2: 单价（元） | H2: 总价 （元）
B3: 3门文件柜 | C3: 常规 | D3: 1.基材：E0级MFC基材、铁皮 2.锁具：使用品牌锁具 3.底部支撑：矮柜使用轻型柜底支撑(TP-12B型柜底支撑) 4.内部结构：上带两块活层，下带一块活层；整体为门板覆盖顶、底板； 5.层板厚度：层/底板为≥25mm，其余为≥16mm； 6.铝框玻璃门默认不带锁具，所使用的玻璃标配为钢化玻璃 | E3: 个 | F3: 11 | G3: 4000 | H3: 44000
B4: PP滴水架 | C4: 常规 | D4: 实验室导流管配件沥水架 烧杯器皿晾干架 | E4: 个 | F4: 2 | G4: 200 | H4: 400
B5: PP水槽 | C5: 常规 | D5: 高密度聚丙烯防腐蚀 | E5: 个 | F5: 2 | G5: 600 | H5: 1200
B6: 办公柜 | C6: 根据护士站范围定制 | D6: 1.基材：E0级MFC基材、铁皮 2.锁具：使用品牌锁具 3.底部支撑：矮柜使用轻型柜底支撑(TP-12B型柜底支撑) 4.内部结构：上带两块活层，下带一块活层；整体为门板覆盖顶、底板； 5.层板厚度：层/底板为≥25mm，其余为≥16mm； 6.铝框玻璃门默认不带锁具，所使用的玻璃标配为钢化玻璃 | E6: 米 | F6: 6 | G6: 2000 | H6: 12000
B7: 办公卡座 | C7: 长1.6 米，宽1.6 米，高1.2 米；或根据现场实际测量定制 | D7: 1、贴面板材：采用优质三聚氰胺纸 ,甲醛释放限量符合国家标准， 2、基材：采用通过国家技术标准的优质环保刨花板。确保甲醛排放达安全水平，经过防潮、防虫、防腐的化学处理，强度高，刚性好，不变形不开裂； 3、粘合剂：优质乳胶, 4、封边用材：≥2mm厚PVC胶边，优质热熔胶。 5、品牌优质五金配件； 6、脚架：采用静电粉末喷涂钢脚架。 7、每个位配活动柜一组 | E7: 张 | F7: 90 | G7: 4000 | H7: 360000
B8: 办公椅 | C8: 常规 | D8: 1、椅背：采用专用优质网布，整个框架为工程塑胶框架，结实耐用，曲线造型，更显得十分美观自然； 2、座垫：采用复合高弹海棉，面覆优质网布； 3、扶手：为PU扶手； 4、脚架：采用优质五星脚架。 | E8: 张 | F8: 1641 | G8: 1320 | H8: 2166120
B9: 办公椅 | C9: 常规 | D9: PU聚氨酯一体成型发泡坐、靠背椅面，内置≥10mm厚夹板，聚氨酯发泡包裹木板，结实耐用、耐 磨， | E9: 张 | F9: 2 | G9: 1320 | H9: 2640
B10: 办公椅 | C10: 常规 | D10: PU聚氨酯一体成型发泡坐、靠背椅面，内置≥10mm厚夹板，聚氨酯发泡包裹木板，结实耐用、耐 磨， | E10: 张 | F10: 211 | G10: 1750 | H10: 369250
B11: 办公椅 | C11: 常规 | D11: PU聚氨酯一体成型发泡坐、靠背椅面，内置≥10mm厚夹板，聚氨酯发泡包裹木板，结实耐用、耐 磨， | E11: 张 | F11: 19 | G11: 2000 | H11: 38000
B12: 办公椅 | C12: 常规 | D12: 类别：四脚椅 五星脚材质：锦纶/尼龙(聚酰胺纤维) 面料材质：网布 | E12: 张 | F12: 30 | G12: 1320 | H12: 39600
B13: 办公桌 | C13: 1000*600*750 | D13: 1、贴面板材：采用优质三聚氰胺纸 ,甲醛释放限量符合国家标准， 2、基材：采用通过国家技术标准的优质环保刨花板。确保甲醛排放达安全水平，经过防潮、防虫、防腐的化学处理，强度高，刚性好，不变形不开裂； 3、粘合剂：优质乳胶, 4、封边用材：≥2mm厚PVC胶边，优质热熔胶。 5、品牌优质五金配件； 6、脚架：采用静电粉末喷涂钢脚架。 7、每个位配活动柜一组 | E13: 张 | F13: 29 | G13: 800 | H13: 23200
B14: 办公桌 | C14: L型 | D14: 1、贴面板材：采用优质三聚氰胺纸 ,甲醛释放限量符合国家标准， 2、基材：采用通过国家技术标准的优质环保刨花板。确保甲醛排放达安全水平，经过防潮、防虫、防腐的化学处理，强度高，刚性好，不变形不开裂； 3、粘合剂：优质乳胶, 4、封边用材：≥2mm厚PVC胶边，优质热熔胶。 5、品牌优质五金配件； 6、脚架：采用静电粉末喷涂钢脚架。 7、每个位配活动柜一组 | E14: 张 | F14: 13 | G14: 6000 | H14: 78000
... B176: 座椅 | C176: 常规 | D176: 1、椅身及扶手面：PU成型自结皮饰面，温馨耐用，密度达到60kg\m³，拉伸强度≥90kPa，伸长率≥130%，回弹率≥35%，撕裂强度≥2.0N/cm，干热老化后拉伸强度≥55kPa甲醛释放≤0.120mg/m2h,TVOC≤0.5mg/m2h。 2、内框架：采用厚度12MM冷轧钢板激光切割成型后焊接而成，所有焊接部分均为满焊，结实稳固。 3、横梁：高强度135*100*100三角形冷轧钢管，表面喷涂处理，金属抗盐雾 4、脚架：高强度冷轧方形钢管，表面喷涂处理，金属抗盐雾 18h。 | E176: 排 | F176: 44 | G176: 890 | H176: 39160
B177: 总计 | F177: 14803 | H177: =SUM(H3:H176) -> 35081194

Sheet 附表1-2办公家具明细表702床(已复核小数）
A1: 附表1-2办公家具明细表 | G1: 第一批（702床） | M1: 第一批（702床） | O1: 第二批（498床）
A2: 位置信息 | B2: 房间名称 | C2: 产品名称 | D2: 规格参数 | E2: 材质参数 | F2: 单位 | G2: 数量 （台/套） | H2: 单价（元） | I2: 总价 （元） | J2: 备注 | K2: 房间编号 | L2: 计划使用科室 | M2: 数量 （台/套） | N2: 总价 （元） | O2: 数量 （台/套） | P2: 总价 （元）
A3: 第二住院楼 | B3: 第二住院楼 | I3: =SUM(I5:I1744) -> 29874954
A4: B5层 | B4: B5层
A5: B4层 | B5: B4层 | O5: =G5-M5 -> 0
A6: B3层 | B6: B3层 | O6: =G6-M6 -> 0
A7: B2层 | B7: B2层 | O7: =G7-M7 -> 0
A8: B1层 | B8: B1层 | O8: =G8-M8 -> 0
A9: B1层 | B9: 报告室1 | C9: 办公卡座 | D9: 长1.6 米，宽1.6 米，高1.2 米；或根据现场实际测量定制 | E9: 1、贴面板材：采用优质三聚氰胺纸 ,甲醛释放限量符合国家标准， 2、基材：采用通过国家技术标准的优质环保刨花板。确保甲醛排放达安全水平，经过防潮、防虫、防腐的化学处理，强度高，刚性好，不变形不开裂； 3、粘合剂：优质乳胶, 4、封边用材：≥2mm厚PVC胶边，优质热熔胶。 5、品牌优质五金配件； 6、脚架：采用静电粉末喷涂钢脚架。 7、每个位配活动柜一组 | F9: 张 | G9: 4 | H9: 4000 | I9: =G9*H9 -> 16000 | K9: G-B1-05 | L9: 核医学科 | M9: =G9 -> 4 | N9: =M9*H9 -> 16000 | O9: =G9-M9 -> 0
A10: B1层 | B10: 报告室1 | C10: 办公椅 | D10: 常规 | E10: 1、椅背：采用专用优质网布，整个框架为工程塑胶框架，结实耐用，曲线造型，更显得十分美观自然； 2、座垫：采用复合高弹海棉，面覆优质网布； 3、扶手：为PU扶手； 4、脚架：采用优质五星脚架。 | F10: 张 | G10: 4 | H10: 1320 | I10: =G10*H10 -> 5280 | K10: G-B1-05 | L10: 核医学科 | M10: =G10 -> 4 | N10: =M10*H10 -> 5280 | O10: =G10-M10 -> 0
A11: B1层 | B11: 报告室2 | C11: 办公卡座 | D11: 长1.6 米，宽1.6 米，高1.2 米；或根据现场实际测量定制 | E11: 1、贴面板材：采用优质三聚氰胺纸 ,甲醛释放限量符合国家标准， 2、基材：采用通过国家技术标准的优质环保刨花板。确保甲醛排放达安全水平，经过防潮、防虫、防腐的化学处理，强度高，刚性好，不变形不开裂； 3、粘合剂：优质乳胶, 4、封边用材：≥2mm厚PVC胶边，优质热熔胶。 5、品牌优质五金配件； 6、脚架：采用静电粉末喷涂钢脚架。 7、每个位配活动柜一组 | F11: 张 | G11: 4 | H11: 4000 | I11: =G11*H11 -> 16000 | K11: G-B1-06 | L11: 核医学科 | M11: =G11 -> 4 | N11: =M11*H11 -> 16000 | O11: =G11-M11 -> 0
A12: B1层 | B12: 报告室2 | C12: 办公椅 | D12: 常规 | E12: 1、椅背：采用专用优质网布，整个框架为工程塑胶框架，结实耐用，曲线造型，更显得十分美观自然； 2、座垫：采用复合高弹海棉，面覆优质网布； 3、扶手：为PU扶手； 4、脚架：采用优质五星脚架。 | F12: 张 | G12: 4 | H12: 1320 | I12: =G12*H12 -> 5280 | K12: G-B1-06 | L12: 核医学科 | M12: =G12 -> 4 | N12: =M12*H12 -> 5280 | O12: =G12-M12 -> 0
A13: B1层 | B13: 报告室3 | C13: 办公卡座 | D13: 长1.6 米，宽1.6 米，高1.2 米；或根据现场实际测量定制 | E13: 1、贴面板材：采用优质三聚氰胺纸 ,甲醛释放限量符合国家标准， 2、基材：采用通过国家技术标准的优质环保刨花板。确保甲醛排放达安全水平，经过防潮、防虫、防腐的化学处理，强度高，刚性好，不变形不开裂； 3、粘合剂：优质乳胶, 4、封边用材：≥2mm厚PVC胶边，优质热熔胶。 5、品牌优质五金配件； 6、脚架：采用静电粉末喷涂钢脚架。 7、每个位配活动柜一组 | F13: 张 | G13: 4 | H13: 4000 | I13: =G13*H13 -> 16000 | K13: G-B1-07 | L13: 核医学科 | M13: =G13 -> 4 | N13: =M13*H13 -> 16000 | O13: =G13-M13 -> 0
A14: B1层 | B14: 报告室3 | C14: 办公椅 | D14: 常规 | E14: 1、椅背：采用专用优质网布，整个框架为工程塑胶框架，结实耐用，曲线造型，更显得十分美观自然； 2、座垫：采用复合高弹海棉，面覆优质网布； 3、扶手：为PU扶手； 4、脚架：采用优质五星脚架。 | F14: 张 | G14: 4 | H14: 1320 | I14: =G14*H14 -> 5280 | K14: G-B1-07 | L14: 核医学科 | M14: =G14 -> 4 | N14: =M14*H14 -> 5280 | O14: =G14-M14 -> 0
A15: B1层 | B15: 报告室4 | C15: 办公卡座 | D15: 长1.6 米，宽1.6 米，高1.2 米；或根据现场实际测量定制 | E15: 1、贴面板材：采用优质三聚氰胺纸 ,甲醛释放限量符合国家标准， 2、基材：采用通过国家技术标准的优质环保刨花板。确保甲醛排放达安全水平，经过防潮、防虫、防腐的化学处理，强度高，刚性好，不变形不开裂； 3、粘合剂：优质乳胶, 4、封边用材：≥2mm厚PVC胶边，优质热熔胶。 5、品牌优质五金配件； 6、脚架：采用静电粉末喷涂钢脚架。 7、每个位配活动柜一组 | F15: 张 | G15: 4 | H15: 4000 | I15: =G15*H15 -> 16000 | K15: G-B1-08 | L15: 核医学科 | M15: =G15 -> 4 | N15: =M15*H15 -> 16000 | O15: =G15-M15 -> 0
A16: B1层 | B16: 报告室4 | C16: 办公椅 | D16: 常规 | E16: 1、椅背：采用专用优质网布，整个框架为工程塑胶框架，结实耐用，曲线造型，更显得十分美观自然； 2、座垫：采用复合高弹海棉，面覆优质网布； 3、扶手：为PU扶手； 4、脚架：采用优质五星脚架。 | F16: 张 | G16: 4 | H16: 1320 | I16: =G16*H16 -> 5280 | K16: G-B1-08 | L16: 核医学科 | M16: =G16 -> 4 | N16: =M16*H16 -> 5280 | O16: =G16-M16 -> 0
A17: B1层 | B17: 诊室1 | C17: 办公卡座 | D17: 长1.6 米，宽1.6 米，高1.2 米；或根据现场实际测量定制 | E17: 1、贴面板材：采用优质三聚氰胺纸 ,甲醛释放限量符合国家标准， 2、基材：采用通过国家技术标准的优质环保刨花板。确保甲醛排放达安全水平，经过防潮、防虫、防腐的化学处理，强度高，刚性好，不变形不开裂； 3、粘合剂：优质乳胶, 4、封边用材：≥2mm厚PVC胶边，优质热熔胶。 5、品牌优质五金配件； 6、脚架：采用静电粉末喷涂钢脚架。 7、每个位配活动柜一组 | F17: 张 | G17: 4 | H17: 4000 | I17: =G17*H17 -> 16000 | K17: G-B1-09 | L17: 核医学科 | M17: =G17 -> 4 | N17: =M17*H17 -> 16000 | O17: =G17-M17 -> 0
A18: B1层 | B18: 诊室1 | C18: 办公椅 | D18: 常规 | E18: 1、椅背：采用专用优质网布，整个框架为工程塑胶框架，结实耐用，曲线造型，更显得十分美观自然； 2、座垫：采用复合高弹海棉，面覆优质网布； 3、扶手：为PU扶手； 4、脚架：采用优质五星脚架。 | F18: 张 | G18: 4 | H18: 1320 | I18: =G18*H18 -> 5280 | K18: G-B1-09 | L18: 核医学科 | M18: =G18 -> 4 | N18: =M18*H18 -> 5280 | O18: =G18-M18 -> 0
A19: B1层 | B19: 报告5 | C19: 办公卡座 | D19: 长1.6 米，宽1.6 米，高1.2 米；或根据现场实际测量定制 | E19: 1、贴面板材：采用优质三聚氰胺纸 ,甲醛释放限量符合国家标准， 2、基材：采用通过国家技术标准的优质环保刨花板。确保甲醛排放达安全水平，经过防潮、防虫、防腐的化学处理，强度高，刚性好，不变形不开裂； 3、粘合剂：优质乳胶, 4、封边用材：≥2mm厚PVC胶边，优质热熔胶。 5、品牌优质五金配件； 6、脚架：采用静电粉末喷涂钢脚架。 7、每个位配活动柜一组 | F19: 张 | G19: 4 | H19: 4000 | I19: =G19*H19 -> 16000 | K19: G-B1-10 | L19: 核医学科 | M19: =G19 -> 4 | N19: =M19*H19 -> 16000 | O19: =G19-M19 -> 0
A20: B1层 | B20: 报告5 | C20: 办公椅 | D20: 常规 | E20: 1、椅背：采用专用优质网布，整个框架为工程塑胶框架，结实耐用，曲线造型，更显得十分美观自然； 2、座垫：采用复合高弹海棉，面覆优质网布； 3、扶手：为PU扶手； 4、脚架：采用优质五星脚架。 | F20: 张 | G20: 4 | H20: 1320 | I20: =G20*H20 -> 5280 | K20: G-B1-10 | L20: 核医学科 | M20: =G20 -> 4 | N20: =M20*H20 -> 5280 | O20: =G20-M20 -> 0
... A119: B1层 | B119: 核医学候诊 | C119: 文件柜 | D119: 长 0.8米，宽0.4 米，高 2.2 米； | E119: 1.基材：E0级MFC基材、铁皮 2.锁具：使用品牌锁具 3.底部支撑：矮柜使用轻型柜底支撑(TP-12B型柜底支撑) 4.内部结构：上带两块活层，下带一块活层；整体为门板覆盖顶、底板； 5.层板厚度：层/底板为≥25mm，其余为≥16mm； 6.铝框玻璃门默认不带锁具，所使用的玻璃标配为钢化玻璃 | F119: 个 | G119: 4 | H119: 3000 | I119: =G119*H119 -> 12000 | K119: G-B1-62 | L119: 核医学科 | M119: =G119 -> 4 | N119: =M119*H119 -> 12000 | O119: =G119-M119 -> 0
A120: B1层 | B120: 核医学等候区 | C120: 等候椅（三位） | D120: 常规 | E120: 1、椅身及扶手面：PU成型自结皮饰面，温馨耐用，密度达到60kg\m³，拉伸强度≥90kPa，伸长率≥130%，回弹率≥35%，撕裂强度≥2.0N/cm，干热老化后拉伸强度≥55kPa甲醛释放≤0.120mg/m2h,TVOC≤0.5mg/m2h。 2、内框架：采用厚度12MM冷轧钢板激光切割成型后焊接而成，所有焊接部分均为满焊，结实稳固。 3、横梁：高强度135*100*100三角形冷轧钢管，表面喷涂处理，金属抗盐雾 4、脚架：高强度冷轧方形钢管，表面喷涂处理，金属抗盐雾 18h。 | F120: 排 | G120: 6 | H120: 1000 | I120: =G120*H120 -> 6000 | L120: 核医学科 | M120: =G120 -> 6 | N120: =M120*H120 -> 6000 | O120: =G120-M120 -> 0
A121: 1层 | B121: 1层 | O121: =G121-M121 -> 0
A122: 1层 | B122: 值班室 | C122: 双层值班床 | D122: 根据现场实际测量定制 | E122: 1.基材:榉木 2.油漆:三底两面环保水性漆 3.立柱:≥60*60mm 4.床板:≥15mm杉木板 5.梯高/宽1350*350mm 6.床母厚度90*25mm 7.床栏高度≥280mm 8.床垫尺寸/厚度1900*1150*50mm | F122: 张 | G122: 2 | H122: 6500 | I122: =G122*H122 -> 13000 | K122: G-1-01 | L122: 基建总务部 | M122: =G122 -> 2 | N122: =M122*H122 -> 13000 | O122: =G122-M122 -> 0
A123: 1层 | B123: 值班室 | C123: 双开门衣柜 | D123: 根据现场实际测量定制 | E123: 1、材料： （1）钢材：采用SECC双面电解钢板，主体钢板（柜体、层板、背板）厚度≥1.0mm。钢材符合QB/T3826--1999《轻工产品金属镀层和化学处理层的耐腐蚀性试验方法中性盐雾试验(NSS)法》，QB/T3832-1999《轻工产品金属镀层腐蚀试验结果的评价》，耐腐蚀等级10级。 （2）金属表面处理：表面脱脂、水洗、酸洗、水洗中和等过程后，经环氧树脂有色粉末静电喷涂，在高温烘箱内固定成光滑表面。粉末涂料符合HG/T2006-2022《热固性和热塑性粉末涂料》。 2、整体工艺： （1）电解钢板整板剪裁采用数控剪板机进行裁剪，成品分解后的各部分通过激光焊接技术，激光切割及数控折边成型。钢板表面经除油去锈后高温静电喷涂，保证其防火，耐磨，防污及高硬度。表面光滑光洁，光泽保持性强，清晰亮净，抗酸耐碱，耐脏易清洁，在接触人体或收藏物品的部位无毛刺、刃口、棱角。 （2）采用双层门板、抽板设计；门框加减震垫，关门静音。柜门内置磁吸功能；柜门采用门轴连接方式，门轴连接件直径为≥4.0mm，柜门带有透气孔。 （3）活动层板四边折弯，可自由调节高度，层板挂钩采用 2.0mm 厚316#不锈钢制作，可自由拆卸，逐级调整高度；底部配有加强筋。 （4）采用隐藏式卷边拉手，折弯一体成型。 3、配置：配有掩门，柜门有锁、柜门上配标签卡槽、。柜体底部采用厚度≥1.0mm的316#不锈钢踢脚线，≥150mm高。根据采购方需求深化设计。 5、成品验收标准：QB∕T 1951.2-2013 《金属家具质量检验及质量评定》、GB 3325-2017《金属家具通用技术条件》、GB/T 35607-2017《绿色产品评价 家具》。 | F123: 个 | G123: 2 | H123: 4000 | I123: =G123*H123 -> 8000 | K123: G-1-01 | L123: 基建总务部 | M123: =G123 -> 2 | N123: =M123*H123 -> 8000 | O123: =G123-M123 -> 0
A124: 1层 | B124: 值班室 | C124: 办公桌 | D124: 1000*600*750 | E124: 1、贴面板材：采用优质三聚氰胺纸 ,甲醛释放限量符合国家标准， 2、基材：采用通过国家技术标准的优质环保刨花板。确保甲醛排放达安全水平，经过防潮、防虫、防腐的化学处理，强度高，刚性好，不变形不开裂； 3、粘合剂：优质乳胶, 4、封边用材：≥2mm厚PVC胶边，优质热熔胶。 5、品牌优质五金配件； 6、脚架：采用静电粉末喷涂钢脚架。 7、每个位配活动柜一组 | F124: 张 | G124: 4 | H124: 800 | I124: =G124*H124 -> 3200 | K124: G-1-01 | L124: 基建总务部 | M124: =G124 -> 4 | N124: =M124*H124 -> 3200 | O124: =G124-M124 -> 0
A125: 1层 | B125: 值班室 | C125: 折叠椅 | D125: 常规 | E125: 类别：四脚椅 五星脚材质：锦纶/尼龙(聚酰胺纤维) 面料材质：网布 | F125: 张 | G125: 4 | H125: 200 | I125: =G125*H125 -> 800 | K125: G-1-01 | L125: 基建总务部 | M125: =G125 -> 4 | N125: =M125*H125 -> 800 | O125: =G125-M125 -> 0
A126: 1层 | B126: 阅片1 | C126: 办公桌或卡座 | D126: 办公桌主台：长 1.4 米，宽 0.8 米，高 0.76 米； 卡座：长 1.6 米，宽 1.6 米，高 1.2 米； 副柜：长 0.48 米，宽 0.4 米，高 0.6 米。 | E126: 1、贴面板材：采用优质三聚氰胺纸 ,甲醛释放限量符合国家标准， 2、基材：采用通过国家技术标准的优质环保刨花板。确保甲醛排放达安全水平，经过防潮、防虫、防腐的化学处理，强度高，刚性好，不变形不开裂； 3、粘合剂：优质乳胶, 4、封边用材：≥2mm厚PVC胶边，优质热熔胶。 5、品牌优质五金配件； 6、脚架：采用静电粉末喷涂钢脚架。 7、每个位配活动柜一组 | F126: 张 | G126: 78 | H126: 4000 | I126: =G126*H126 -> 312000 | K126: G-1-02 | L126: 放射诊断科 | M126: =G126 -> 78 | N126: =M126*H126 -> 312000 | O126: =G126-M126 -> 0
A127: 1层 | B127: 阅片1 | C127: 办公椅 | D127: 常规 | E127: 1、椅背：采用专用优质网布，整个框架为工程塑胶框架，结实耐用，曲线造型，更显得十分美观自然； 2、座垫：采用复合高弹海棉，面覆优质网布； 3、扶手：为PU扶手； 4、脚架：采用优质五星脚架。 | F127: 张 | G127: 78 | H127: 1320 | I127: =G127*H127 -> 102960 | K127: G-1-02 | L127: 放射诊断科 | M127: =G127 -> 78 | N127: =M127*H127 -> 102960 | O127: =G127-M127 -> 0
A128: 1层 | B128: 阅片1 | C128: 书柜 | D128: 常规 | E128: 1.基材：E0级MFC基材 2.锁具：使用品牌锁具 3.底部支撑：矮柜使用轻型柜底支撑(TP-12B型柜底支撑) 4.内部结构：上带两块活层，下带一块活层；整体为门板覆盖顶、底板； 5.层板厚度：层/底板为≥25mm，其余为≥16mm； 6.铝框玻璃门默认不带锁具，所使用的玻璃标配为钢化玻璃 | F128: 个 | G128: 16 | H128: 3000 | I128: =G128*H128 -> 48000 | K128: G-1-02 | L128: 放射诊断科 | M128: =G128 -> 16 | N128: =M128*H128 -> 48000 | O128: =G128-M128 -> 0
A129: 1层 | B129: 阅片1 | C129: 普通椅 | D129: 550*480*820 | E129: 1.面料：采用高强度工程塑料，内板及外框材料采用PP+PA材料； 2.结构功能：座椅的座面与靠背均一体成型，下架电镀金属钢架，配双排扣尼龙脚垫。 | F129: 张 | G129: 20 | H129: 500 | I129: =G129*H129 -> 10000 | K129: G-1-02 | L129: 放射诊断科 | M129: =G129 -> 20 | N129: =M129*H129 -> 10000 | O129: =G129-M129 -> 0
A130: 1层 | B130: 阅片1 | C130: 演讲台 | D130: 常规 | E130: 1、贴面材料：采用优质木皮饰面， 2、基材：采用优质高密度中纤板,优质绿色环保产品。 3、品牌油漆：面漆采用PU聚脂漆,底漆采用PE不饱和树脂，甲苯、二甲苯、乙苯含量总和符合国家环保要求。 4、品牌优质五金配件； | F130: 个 | G130: 1 | H130: 2000 | I130: =G130*H130 -> 2000 | K130: G-1-02 | L130: 放射诊断科 | M130: =G130 -> 1 | N130: =M130*H130 -> 2000 | O130: =G130-M130 -> 0
A131: 1层 | B131: 茶水 | C131: 折叠椅 | D131: 常规 | E131: 类别：四脚椅 五星脚材质：锦纶/尼龙(聚酰胺纤维) 面料材质：网布 | F131: 张 | G131: 6 | H131: 200 | I131: =G131*H131 -> 1200 | K131: G-1-03 | L131: 放射诊断科 | M131: =G131 -> 6 | N131: =M131*H131 -> 1200 | O131: =G131-M131 -> 0
A132: 1层 | B132: 茶水 | C132: 茶几 | D132: 圆形直径0.6，高0.75；或根据现场实际测量定制，活动、休息室/办公室 | E132: 1、贴面材料：采用优质木皮饰面， 2、封边用材：与贴面相同的实木木材； 3、基材：采用优质高密度中纤板,优质绿色环保产品。 4、品牌油漆：面漆采用PU聚脂漆,底漆采用PE不饱和树脂，甲苯、二甲苯、乙苯含量总和符合国家环保要求。 5、品牌优质五金配件； | F132: 个 | G132: 1 | H132: 1000 | I132: =G132*H132 -> 1000 | K132: G-1-03 | L132: 放射诊断科 | M132: =G132 -> 1 | N132: =M132*H132 -> 1000 | O132: =G132-M132 -> 0
A133: 1层 | B133: 资料室 | C133: 办公桌或卡座 | D133: 办公桌主台：长 1.4 米，宽 0.8 米，高 0.76 米； 副柜：长 0.48 米，宽 0.4 米，高 0.6 米。 | E133: 1、贴面板材：采用优质三聚氰胺纸 ,甲醛释放限量符合国家标准， 2、基材：采用通过国家技术标准的优质环保刨花板。确保甲醛排放达安全水平，经过防潮、防虫、防腐的化学处理，强度高，刚性好，不变形不开裂； 3、粘合剂：优质乳胶, 4、封边用材：≥2mm厚PVC胶边，优质热熔胶。 5、品牌优质五金配件； 6、脚架：采用静电粉末喷涂钢脚架。 7、每个位配活动柜一组 | F133: 张 | G133: 1 | H133: 4000 | I133: =G133*H133 -> 4000 | K133: G-1-04 | L133: 放射诊断科 | M133: =G133 -> 1 | N133: =M133*H133 -> 4000 | O133: =G133-M133 -> 0
... A236: 1层 | B236: 等候大厅 | C236: 等候椅（三位） | D236: 常规 | E236: 1、椅身及扶手面：PU成型自结皮饰面，温馨耐用，密度达到60kg\m³，拉伸强度≥90kPa，伸长率≥130%，回弹率≥35%，撕裂强度≥2.0N/cm，干热老化后拉伸强度≥55kPa甲醛释放≤0.120mg/m2h,TVOC≤0.5mg/m2h。 2、内框架：采用厚度12MM冷轧钢板激光切割成型后焊接而成，所有焊接部分均为满焊，结实稳固。 3、横梁：高强度135*100*100三角形冷轧钢管，表面喷涂处理，金属抗盐雾 4、脚架：高强度冷轧方形钢管，表面喷涂处理，金属抗盐雾 18h。 | F236: 排 | G236: 16 | H236: 1000 | I236: =G236*H236 -> 16000 | K236: G-1-41 | L236: 财务部 | M236: =G236 -> 16 | N236: =M236*H236 -> 16000 | O236: =G236-M236 -> 0
A237: 2层 | B237: 2层 | O237: =G237-M237 -> 0
A238: 2层 | B238: 办公室 | C238: 办公桌（含副台和副柜） | D238: 办公桌主台：长 1.8 米，宽 0.9 米，高 0.76 米； 副台：长 0.9 米，宽 0.55 米，高 0.76 米； 副柜：长 0.48 米，宽 0.4 米，高 0.62 米。 | E238: 1、贴面板材：采用优质三聚氰胺纸 ,甲醛释放限量符合国家标准， 2、基材：采用通过国家技术标准的优质环保刨花板。确保甲醛排放达安全水平，经过防潮、防虫、防腐的化学处理，强度高，刚性好，不变形不开裂； 3、粘合剂：优质乳胶, 4、封边用材：≥2mm厚PVC胶边，优质热熔胶。 5、品牌优质五金配件； 6、脚架：采用静电粉末喷涂钢脚架。 7、每个位配活动柜一组 | F238: 张 | G238: 1 | H238: 4000 | I238: =G238*H238 -> 4000 | K238: G-2-02 | L238: 检验科 | M238: =G238 -> 1 | N238: =M238*H238 -> 4000 | O238: =G238-M238 -> 0
A239: 2层 | B239: 办公室 | C239: 办公椅 | D239: 常规 | E239: PU聚氨酯一体成型发泡坐、靠背椅面，内置≥10mm厚夹板，聚氨酯发泡包裹木板，结实耐用、耐 磨， | F239: 张 | G239: 1 | H239: 1320 | I239: =G239*H239 -> 1320 | K239: G-2-02 | L239: 检验科 | M239: =G239 -> 1 | N239: =M239*H239 -> 1320 | O239: =G239-M239 -> 0
A240: 2层 | B240: 办公室 | C240: 桌前椅 | D240: 常规 | E240: 1、椅背：采用专用优质网布，整个框架为工程塑胶框架，结实耐用，曲线造型，更显得十分美观自然； 2、座垫：采用复合高弹海棉，面覆优质网布； 3、扶手：为PU扶手； 4、脚架：采用优质五星脚架。 | F240: 张 | G240: 1 | H240: 800 | I240: =G240*H240 -> 800 | K240: G-2-02 | L240: 检验科 | M240: =G240 -> 1 | N240: =M240*H240 -> 800 | O240: =G240-M240 -> 0
...

Sheet 附表2-2窗帘明细表（1200床）
A1: 附表2-2 窗帘明细表（1200床）
A2: 序号 | B2: 楼层 | C2: 使用区域 | D2: 货物名称 | E2: 宽度（米） | F2: 褶皱系数 | G2: 高度 （米） | H2: 数量 （个） | I2: 面积 （m²） | J2: 布使用量（米） | K2: 轨道使用量（米） | L2: 备注
A3: 一 | B3: 第二住院楼
A4: 1 | B4: 负一层 | C4: 社会服务 | D4: 卷帘/百叶帘 | E4: 14.178 | G4: 3.036 | H4: 1 | I4: 43.044408 | L4: G-B1-01 | M4: 702
A5: 2 | C5: 社会服务 | D5: 卷帘/百叶帘 | E5: 8.874 | G5: 3.036 | H5: 1 | I5: 26.941464 | L5: G-B1-02 | M5: 702
A6: 3 | C6: 社会服务 | D6: 卷帘/百叶帘 | E6: 15.096 | G6: 3.036 | H6: 1 | I6: 45.831456 | L6: G-B1-03 | M6: 702
A7: 4 | C7: 社会服务 | D7: 卷帘/百叶帘 | E7: 9.18 | G7: 3.036 | H7: 1 | I7: 27.87048 | L7: G-B1-04 | M7: 702
A8: 5 | C8: 报告 | D8: 卷帘/百叶帘 | E8: 1.224 | G8: 1.188 | H8: 1 | I8: 1.454112 | L8: G-B1-05 | M8: 702
A9: 6 | C9: 报告 | D9: 卷帘/百叶帘 | E9: 1.224 | G9: 1.584 | H9: 1 | I9: 1.938816 | L9: G-B1-06 | M9: 702
A10: 7 | C10: 报告 | D10: 卷帘/百叶帘 | E10: 1.224 | G10: 1.584 | H10: 2 | I10: 3.877632 | L10: G-B1-07 | M10: 702
A11: 8 | C11: 报告 | D11: 卷帘/百叶帘 | E11: 1.224 | G11: 1.584 | H11: 2 | I11: 3.877632 | L11: G-B1-08 | M11: 702
A12: 11 | C12: 技师办公 | D12: 布帘 | E12: 3.162 | F12: 1.5 | G12: 2.3 | H12: 1 | J12: 4.743 | K12: 3.362 | L12: G-B1-33 | M12: 702
A13: 12 | C13: 主任办公 | D13: 布帘 | E13: 3.162 | F13: 1.5 | G13: 2.3 | H13: 1 | J13: 4.743 | K13: 3.362 | L13: G-B1-34 | M13: 702
A14: 13 | C14: 报告室 | D14: 布帘 | E14: 3.162 | F14: 1.5 | G14: 2.3 | H14: 1 | J14: 4.743 | K14: 3.362 | L14: G-B1-35 | M14: 702
A15: 14 | C15: 报告室 | D15: 布帘 | E15: 3.57 | F15: 1.5 | G15: 2.3 | H15: 1 | J15: 5.355 | K15: 3.77 | L15: G-B1-36 | M15: 702
A16: 15 | C16: 女更衣 | D16: 布帘 | E16: 2.04 | F16: 1.5 | G16: 2.3 | H16: 1 | J16: 3.06 | K16: 2.24 | L16: G-B1-37 | M16: 702
A17: 16 | C17: 男更衣 | D17: 布帘 | E17: 2.04 | F17: 1.5 | G17: 2.3 | H17: 1 | J17: 3.06 | K17: 2.24 | L17: G-B1-38 | M17: 702
A18: 17 | C18: 抢救 | D18: 隔帘 | E18: 9.18 | F18: 1.5 | G18: 3 | H18: 1 | J18: 13.77 | K18: 9.38 | L18: G-B1-41 | M18: 702
A19: 18 | C19: 休息厅 | D19: 布帘 | E19: 5.1 | F19: 1.5 | G19: 3 | H19: 1 | J19: 7.65 | K19: 5.3 | L19: G-B1-50 | M19: 702
A20: 19 | C20: 留观 | D20: 隔帘 | E20: 6.63 | F20: 1.5 | G20: 3 | H20: 2 | J20: 19.89 | K20: 6.83 | L20: G-B1-51 | M20: 702
A21: 20 | C21: 注射后休息室1 | D21: 隔帘 | E21: 6.63 | F21: 1.5 | G21: 3 | H21: 2 | J21: 19.89 | K21: 6.83 | L21: G-B1-52 | M21: 702
A22: 21 | C22: 注射后休息室2 | D22: 隔帘 | E22: 6.63 | F22: 1.5 | G22: 3 | H22: 2 | J22: 19.89 | K22: 6.83 | L22: G-B1-53 | M22: 702
A23: 22 | C23: 注射后休息室3 | D23: 隔帘 | E23: 6.63 | F23: 1.5 | G23: 3 | H23: 2 | J23: 19.89 | K23: 6.83 | L23: G-B1-54 | M23: 702
... A30: 29 | C30: 诊室 | D30: 布帘 | E30: 3.366 | F30: 1.5 | G30: 3 | H30: 1 | J30: 5.049 | K30: 3.566 | L30: G-B1-61 | M30: 702
A31: 30 | C31: 核医学候诊 | D31: 卷帘/百叶帘 | E31: 4.386 | G31: 3.036 | H31: 1 | I31: 13.315896 | L31: G-B1-62 | M31: 702
A32: 31 | B32: 1层 | C32: 值班室 | D32: 卷帘/百叶帘 | E32: 0.714 | G32: 3.96 | H32: 2 | I32: 5.65488 | L32: G-1-01 | M32: 702
A33: 32 | C33: 阅片室（大） | D33: 卷帘/百叶帘 | E33: 0.714 | G33: 3.96 | H33: 9 | I33: 25.44696 | L33: G-1-02 | M33: 702
A34: 33 | C34: 配套管理、快递收发 | D34: 卷帘/百叶帘 | E34: 20.4 | G34: 3.96 | H34: 10 | I34: 807.84 | L34: / | M34: 702
A35: 34 | C35: 备餐间 | D35: 布帘 | E35: 4.08 | F35: 1.5 | G35: 3 | H35: 1 | J35: 6.12 | K35: 4.28 | L35: G-1-23 | M35: 702
A36: 35 | C36: 阅片室（小） | D36: 布帘 | E36: 3.978 | F36: 1.5 | G36: 3 | H36: 1 | J36: 5.967 | K36: 4.178 | L36: G-1-24 | M36: 702
A37: 36 | C37: 阅片室（小） | D37: 布帘 | E37: 3.825 | F37: 1.5 | G37: 3 | H37: 1 | J37: 5.7375 | K37: 4.025 | L37: G-1-26 | M37: 702
A38: 37 | C38: 阅片室（小） | D38: 布帘 | E38: 3.978 | F38: 1.5 | G38: 3 | H38: 1 | J38: 5.967 | K38: 4.178 | L38: G-1-27 | M38: 702
A39: 38 | C39: 阅片室（小） | D39: 布帘 | E39: 3.978 | F39: 1.5 | G39: 3 | H39: 1 | J39: 5.967 | K39: 4.178 | L39: G-1-28 | M39: 702
A40: 39 | C40: 阅片室（小） | D40: 布帘 | E40: 3.111 | F40: 1.5 | G40: 3 | H40: 1 | J40: 4.6665 | K40: 3.311 | L40: G-1-29 | M40: 702
A41: 40 | C41: 阅片室（小） | D41: 布帘 | E41: 3.111 | F41: 1.5 | G41: 3 | H41: 1 | J41: 4.6665 | K41: 3.311 | L41: G-1-30 | M41: 702
A42: 41 | C42: 阅片室（小） | D42: 布帘 | E42: 2.856 | F42: 1.5 | G42: 3 | H42: 1 | J42: 4.284 | K42: 3.056 | L42: G-1-31 | M42: 702
A43: 42 | C43: 阅片室（小） | D43: 布帘 | E43: 3.06 | F43: 1.5 | G43: 3 | H43: 1 | J43: 4.59 | K43: 3.26 | L43: G-1-32 | M43: 702
A44: 43 | C44: 阅片室（小） | D44: 布帘 | E44: 3.06 | F44: 1.5 | G44: 3 | H44: 1 | J44: 4.59 | K44: 3.26 | L44: G-1-33 | M44: 702
A45: 44 | B45: 2层 | C45: 社会服务 | D45: 布帘 | E45: 6.834 | F45: 1.5 | G45: 3 | H45: 1 | J45: 10.251 | K45: 7.034 | L45: G-2-01 | M45: 702
A46: 45 | D46: 布帘 | E46: 15.3 | F46: 1.5 | G46: 3 | H46: 1 | J46: 22.95 | K46: 15.5 | M46: 702
...

Sheet 附表2-1窗帘汇总表702床
A1: 附表2-1窗帘汇总表
A2: 序号 | B2: 产品名称 | C2: 单位 | D2: 数量 | E2: 单价（元） | F2: 总价（元）
A3: 1 | B3: 卷帘（百叶） | C3: 平方米 | D3: =#REF! -> #REF! | E3: 80 | F3: =D3*E3 -> #REF!
A4: 2 | B4: 隔帘 | C4: 米 | D4: =#REF! -> #REF! | E4: 50 | F4: =D4*E4 -> #REF!
A5: 3 | B5: 布帘 | C5: 米 | D5: =#REF! -> #REF! | E5: 120 | F5: =D5*E5 -> #REF!
A6: 4 | B6: 纱帘 | C6: 米 | D6: =#REF! -> #REF! | E6: 60 | F6: =D6*E6 -> #REF!
A7: 5 | B7: 轨道 | C7: 米 | D7: =#REF! -> #REF! | E7: 30 | F7: =D7*E7 -> #REF!
B8: 合计 | D8: =SUM(D3:D7) -> #REF! | F8: =SUM(F3:F7) -> #REF!

Sheet 办公家具配置标准
A1: 办公家具配置标准
A2: 序号 | B2: 设备名称 | C2: 数量 | D2: 单位 | E2: 参考规格 | F2: 配置标准 | G2: 单价上限（元） | H2: 备注
A3: 一 | B3: 办公室
A4: （一） | B4: 基本配置
A5: 1 | B5: 局级人员
A6: 1.1 | B6: 办公桌（含副台和副柜） | C6: 1 | D6: 张 | E6: 办公桌主台：长 2.2 米，宽 1 米，高 0.76 米； 副台：长 1 米，宽 0.55 米，高 0.76 米； 副柜：长 0.48 米，宽 0.4 米，高 0.62 米。 | F6: 每人可配置 1 张 | G6: 6000 | H6: 整套总额上限10000元
A7: 1.2 | B7: 办公椅 | C7: 1 | D7: 张 | F7: 每人可配置 1 张 | G7: 2000
A8: 1.3 | B8: 桌前椅 | C8: 2 | D8: 张 | F8: 每人可配置 2 张 | G8: 1000
A9: 2 | B9: 处级人员
A10: 2.1 | B10: 办公桌（含副台和副柜） | C10: 1 | D10: 张 | E10: 办公桌主台：长 1.8 米，宽 0.9 米，高 0.76 米； 副台：长 0.9 米，宽 0.55 米，高 0.76 米； 副柜：长 0.48 米，宽 0.4 米，高 0.62 米。 | F10: 每人可配置 1 张 | G10: 4000 | H10: 整套总额上限7350元
A11: 2.2 | B11: 办公椅 | C11: 1 | D11: 张 | F11: 每人可配置 1 张 | G11: 1750
A12: 2.3 | B12: 桌前椅 | C12: 2 | D12: 张 | F12: 每人可配置 2 张 | G12: 800
A13: 3 | B13: 科级及以下人员
A14: 3.1 | B14: 办公桌或卡座 | C14: 1 | D14: 张 | E14: 办公桌主台：长 1.4 米，宽 0.8 米，高 0.76 米； 卡座：长 1.6 米，宽 1.6 米，高 1.2 米； 副柜：长 0.48 米，宽 0.4 米，高 0.6 米。 | F14: 每人可配置 1 张 | G14: 4000 | H14: 整套总额上限5320元
A15: 3.2 | B15: 办公椅 | C15: 1 | D15: 张 | F15: 每人可配置 1 张 | G15: 1320
A16: （二） | B16: 公共配置
A17: 1 | B17: 沙发（单人和三人沙发） | C17: 1 | D17: 套 | F17: 每间办公室可配置 1套 | G17: 6000 | H17: 办公室面积≤18平方米，不超12000 元；18 平方米＜面积≤24 平方米，不超 18000元；24 平方米＜面积≤30 平方米，不超 24000 元；面积＞30 平方米，按需配置。
A18: 2 | B18: 茶几 | C18: 1 | D18: 张 | F18: 每间办公室可配置 1 个 | G18: 1000
A19: 3 | B19: 茶水柜 | C19: 1 | D19: 个 | F19: 每间办公室可配置 1 个 | G19: 1000
A20: 4 | B20: 文件柜 | C20: 按需 | D20: 个 | F20: 根据办公室设计定员，不应超过 1 个/人 | G20: 3000
A21: 5 | B21: 书柜 | C21: 按需 | D21: 个 | F21: 根据办公室设计定员，不应超过 1 个/人 | G21: 3000
A22: 6 | B22: 保险柜 | C22: 按需 | D22: 个 | F22: 按需配置 | G22: 1800
A23: 7 | B23: 普通椅 | C23: 按需 | D23: 个 | F23: 按需配置 | G23: 500
A24: 二 | B24: 会议室
A25: （一） | B25: 基本配置
A26: 1 | B26: 会议桌
A27: 1.1 | B27: 小号 | C27: 1 | D27: 张 | G27: 5000
A28: 1.2 | B28: 中号 | C28: 1 | D28: 张 | G28: 12000
A29: 1.3 | B29: 大号 | C29: 1 | D29: 张 | E29: 长度超12米部分 | G29: 20000+1500/延米
A30: 2 | B30: 主席台桌椅
A31: 2.1 | B31: 整体式 | C31: 1 | D31: 张 | E31: 长度超4米部分 | G31: 12000+1500/延米
A32: 2.2 | B32: 拆分式 | C32: 1 | D32: 张 | G32: 3000
A33: 3 | B33: 演讲台 | C33: 1 | D33: 个 | G33: 2000
A34: 4 | B34: 会议椅 | C34: 按需 | D34: 张 | G34: 1100
A35: （二） | B35: 公共配置
A36: 1 | B36: 条形桌
A37: 1.1 | B37: 条形桌 | C37: 1 | D37: 张 | E37: 长1.2×宽0.4 | G37: 900
A38: 1.2 | B38: 条形桌 | C38: 1 | D38: 张 | E38: 长1.8×宽0.4 | G38: 1200
A39: 2 | B39: 折叠椅 | C39: 按需 | D39: 张 | G39: 200
A40: 三 | B40: 接待室
...

Sheet 办公设备透视表
A3: 产品名称 | B3: 规格参数 | C3: 单价（元） | D3: 单位 | E3: 求和项:数量 | F3: 求和项:总价（元）
A4: A3彩色激光打印机 | B4: A3彩色激光打印机、≥20页/分、≥600*600dpi、USB2.0、有线网络、自动双面 | C4: 16000 | D4: 台 | E4: 7 | F4: 112000
A5: A3黑白激光打印机 | B5: a3黑白激光、自动双面、有线、USB、单面≥29页/分、双面≥18页/分 | C5: 6000 | D5: 台 | E5: 2 | F5: 12000
A6: A4彩色激光打印机 | B6: A4彩色激光、≥18页/分、≥600*600dpi、USB、网络 | C6: 2000 | D6: 台 | E6: 84 | F6: 168000
A7: A4彩色激光打印机 | B7: A4彩色激光、≥18页/分、≥600*600dpi、USB、网络 | C7: 9300 | D7: 台 | E7: 1 | F7: 9300
A8: A4黑白打印复印扫描一体机 | B8: A4、黑白激光、打印、复印、扫描一体机，自动双面、单面≥28页/分、双面≥15页/分，USB、有线网络 | C8: 2000 | D8: 台 | E8: 6 | F8: 12000
A9: A4黑白打印复印扫描一体机 | B9: A4、黑白激光、打印、复印、扫描一体机，自动双面、单面≥28页/分、双面≥15页/分，USB、有线网络 | C9: 2500 | D9: 台 | E9: 32 | F9: 80000
A10: A4黑白激光打印机 | B10: a4黑白激光、自动双面、有线、USB、单面≥29页/分、双面≥18页/分 | C10: 1200 | D10: 个 | E10: 1 | F10: 1200
A11: A4黑白激光打印机 | B11: a4黑白激光、自动双面、有线、USB、单面≥29页/分、双面≥18页/分 | C11: 1200 | D11: 台 | E11: 512 | F11: 614400
A12: LED显示屏 | B12: 类型：液晶；是否触摸屏：非触摸屏；接口：HDMI，DVI，VGA | C12: 2000 | D12: 个 | E12: 1 | F12: 2000
A13: LED显示屏 | B13: 类型：液晶；是否触摸屏：非触摸屏；接口：HDMI，DVI，VGA | C13: 2000 | D13: 套 | E13: 1 | F13: 2000
A14: PDA | B14: 移动护理PDA、8核处理器，频率≥2.3GHZ、≥3GB RAM，≥32GB ROM、可充电锂电池、容量≥4100mAh，≥5英寸，电容屏多点触控、分辨率≥1280 x720、摄像头、支持802.11a/b/g/n/ac协议，2.4G/5G双频、支持4G全网通、条码扫描引擎、Android医疗操作系统 | C14: 5000 | D14: 个 | E14: 106 | F14: 530000
A15: PDA | B15: 移动护理PDA、8核处理器，频率≥2.3GHZ、≥3GB RAM，≥32GB ROM、可充电锂电池、容量≥4100mAh，≥5英寸，电容屏多点触控、分辨率≥1280 x720、摄像头、支持802.11a/b/g/n/ac协议，2.4G/5G双频、支持4G全网通、条码扫描引擎、Android医疗操作系统 | C15: 5000 | D15: 台 | E15: 267 | F15: 1335000
... A49: 红外防盗报警器 | B49: 无线探测器、实现现场喇叭报警、远程报警、微信报警、电话报警 | C49: 1000 | D49: 个 | E49: 1 | F49: 1000
A50: 后勤综合楼 | B50: (空白) | C50: (空白) | D50: (空白) | E50: 956 | F50: 4324810
A51: 加湿器 | B51: 加湿面积150平米 | C51: 3000 | D51: 台 | E51: 2 | F51: 6000
A52: 加湿器 | B52: 加湿面积200平米 | C52: 3000 | D52: 台 | E52: 2 | F52: 6000
A53: 加湿器 | B53: 加湿面积50平米 | C53: 800 | D53: 台 | E53: 2 | F53: 1600
A54: 监控 | B54: 红外报警系统、视频监控主机、监控摄像机等 | C54: 16800 | D54: 套 | E54: 1 | F54: 16800
A55: 监控 | B55: 夜视类型：红外夜视；类别：球机；监控存储方式：硬盘+内存卡；探头个数：2个；智能识别：区域入侵检测，电子围栏，温度识别，烟雾识别；追踪方式：自动巡航；供网方式：网线；变倍变焦：光学变焦；像素：400万；防水等级：IP66；供电方式：电源供电 | C55: 5000 | D55: 个 | E55: 16 | F55: 80000
A56: 叫号排队机（连显示屏） | B56: 无线、排队机取号叫号机、 55寸液晶综合屏 | C56: 35000 | D56: 套 | E56: 1 | F56: 35000
A57: 洁净区无尘电话对讲机 | B57: 不锈钢 | C57: 1000 | D57: 台 | E57: 10 | F57: 10000
A58: 可视对讲机 | B58: 内外可视对讲 | C58: 1000 | D58: 个 | E58: 1 | F58: 1000
A59: 空调 | B59: 1.5匹 | C59: 3500 | D59: 台 | E59: 43 | F59: 150500
A60: 空调 | B60: 1匹 | C60: 2000 | D60: 台 | E60: 2 | F60: 4000
A61: 空调 | B61: 2匹 | C61: 6500 | D61: 台 | E61: 236 | F61: 1534000
A62: 空调 | B62: 3匹 | C62: 8500 | D62: 台 | E62: 38 | F62: 323000
... A101: 自动装订机 | B101: 500页以内自动打孔、装订 | C101: 2000 | D101: 台 | E101: 1 | F101: 2000
A102: (空白) | B102: (空白) | C102: (空白) | D102: (空白) | E102: 8211 | F102: 22031340
A103: 总计 | E103: 18334 | F103: 52712300

Sheet 办公设备702透视表
A3: 产品名称 | B3: 规格参数 | C3: 单位 | D3: 单价（元） | E3: 求和项:数量 （台/套） | F3: 求和项:总价（元）
A4: 3D打印机 | B4: 用于后装模具打印，含耗材 | C4: 个 | D4: 9800 | E4: 1 | F4: 9800
A5: A3彩色激光打印机 | B5: A3彩色激光打印机、≥20页/分、≥600*600dpi、USB2.0、有线网络、自动双面 | C5: 台 | D5: 15000 | E5: 7 | F5: 105000
A6: A3黑白激光打印机 | B6: a3黑白激光、自动双面、有线、USB、单面≥29页/分、双面≥18页/分 | C6: 台 | D6: 5500 | E6: 3 | F6: 16500
A7: A4彩色激光打印机 | B7: A4彩色激光、≥18页/分、≥600*600dpi、USB、网络 | C7: 台 | D7: 2000 | E7: 64 | F7: 128000
A8: A4彩色激光打印机 | B8: A4彩色激光、≥18页/分、≥600*600dpi、USB、网络 | C8: 台 | D8: 9300 | E8: 1 | F8: 9300
A9: A4黑白打印复印扫描一体机 | B9: A4、黑白激光、打印、复印、扫描一体机，自动双面、单面≥28页/分、双面≥15页/分，USB、有线网络 | C9: 台 | D9: 2500 | E9: 26 | F9: 65000
A10: A4黑白激光打印机 | B10: a4黑白激光、自动双面、有线、USB、单面≥29页/分、双面≥18页/分 | C10: 个 | D10: 1200 | E10: 1 | F10: 1200
A11: A4黑白激光打印机 | B11: a4黑白激光、自动双面、有线、USB、单面≥29页/分、双面≥18页/分 | C11: 台 | D11: 1200 | E11: 387 | F11: 464400
A12: LED显示屏 | B12: 类型：液晶；是否触摸屏：非触摸屏；接口：HDMI，DVI，VGA | C12: 个 | D12: 2000 | E12: 1 | F12: 2000
A13: LED显示屏 | B13: 类型：液晶；是否触摸屏：非触摸屏；接口：HDMI，DVI，VGA | C13: 套 | D13: 2000 | E13: 1 | F13: 2000
A14: PDA | B14: 移动护理PDA、8核处理器，频率≥2.3GHZ、≥3GB RAM，≥32GB ROM、可充电锂电池、容量≥4100mAh，≥5英寸，电容屏多点触控、分辨率≥1280 x720、摄像头、支持802.11a/b/g/n/ac协议，2.4G/5G双频、支持4G全网通、条码扫描引擎、Android医疗操作系统 | C14: 台 | D14: 4500 | E14: 264 | F14: 1188000
A15: RFID手持终端远距离电子标签读写器 | B15: 读卡距离0-20米，可调 | C15: 台 | D15: 3000 | E15: 2 | F15: 6000
... A101: 自动装订机 | B101: 500页以内自动打孔、装订 | C101: 台 | D101: 2000 | E101: 1 | F101: 2000
A102: (空白) | B102: (空白) | C102: (空白) | D102: (空白) | F102: 18353560
A103: 总计 | E103: 8082 | F103: 36707120

Sheet 附表3-1办公设备汇总表702床（未分类）
A3: 序号 | B3: 产品名称 | C3: 规格参数 | D3: 单位 | E3: 数量 | F3: 单价（元） | G3: 总价（元）
B4: 3D打印机 | C4: 用于后装模具打印，含耗材 | D4: 个 | E4: 1 | F4: 9800 | G4: 9800
B5: A3彩色激光打印机 | C5: A3彩色激光打印机、≥20页/分、≥600*600dpi、USB2.0、有线网络、自动双面 | D5: 台 | E5: 7 | F5: 15000 | G5: 105000
B6: A3黑白激光打印机 | C6: a3黑白激光、自动双面、有线、USB、单面≥29页/分、双面≥18页/分 | D6: 台 | E6: 3 | F6: 5500 | G6: 16500
B7: A4彩色激光打印机 | C7: A4彩色激光、≥18页/分、≥600*600dpi、USB、网络 | D7: 台 | E7: 64 | F7: 2000 | G7: 128000
B8: A4彩色激光打印机 | C8: A4彩色激光、≥18页/分、≥600*600dpi、USB、网络 | D8: 台 | E8: 1 | F8: 9300 | G8: 9300
B9: A4黑白打印复印扫描一体机 | C9: A4、黑白激光、打印、复印、扫描一体机，自动双面、单面≥28页/分、双面≥15页/分，USB、有线网络 | D9: 台 | E9: 26 | F9: 2500 | G9: 65000
B10: A4黑白激光打印机 | C10: a4黑白激光、自动双面、有线、USB、单面≥29页/分、双面≥18页/分 | D10: 个 | E10: 1 | F10: 1200 | G10: 1200
B11: A4黑白激光打印机 | C11: a4黑白激光、自动双面、有线、USB、单面≥29页/分、双面≥18页/分 | D11: 台 | E11: 387 | F11: 1200 | G11: 464400
